BEGIN:VCALENDAR
VERSION:2.0
PRODID:-//ThinkFAST - ECPv6.15.17.1//NONSGML v1.0//EN
CALSCALE:GREGORIAN
METHOD:PUBLISH
X-WR-CALNAME:ThinkFAST
X-ORIGINAL-URL:https://thinkfast.sheridancollege.ca
X-WR-CALDESC:Events for ThinkFAST
REFRESH-INTERVAL;VALUE=DURATION:PT1H
X-Robots-Tag:noindex
X-PUBLISHED-TTL:PT1H
BEGIN:VTIMEZONE
TZID:America/Toronto
BEGIN:DAYLIGHT
TZOFFSETFROM:-0500
TZOFFSETTO:-0400
TZNAME:EDT
DTSTART:20200308T070000
END:DAYLIGHT
BEGIN:STANDARD
TZOFFSETFROM:-0400
TZOFFSETTO:-0500
TZNAME:EST
DTSTART:20201101T060000
END:STANDARD
BEGIN:DAYLIGHT
TZOFFSETFROM:-0500
TZOFFSETTO:-0400
TZNAME:EDT
DTSTART:20210314T070000
END:DAYLIGHT
BEGIN:STANDARD
TZOFFSETFROM:-0400
TZOFFSETTO:-0500
TZNAME:EST
DTSTART:20211107T060000
END:STANDARD
BEGIN:DAYLIGHT
TZOFFSETFROM:-0500
TZOFFSETTO:-0400
TZNAME:EDT
DTSTART:20220313T070000
END:DAYLIGHT
BEGIN:STANDARD
TZOFFSETFROM:-0400
TZOFFSETTO:-0500
TZNAME:EST
DTSTART:20221106T060000
END:STANDARD
END:VTIMEZONE
BEGIN:VEVENT
DTSTART;TZID=America/Toronto:20211205T190000
DTEND;TZID=America/Toronto:20211205T200000
DTSTAMP:20260422T212111
CREATED:20210915T122201Z
LAST-MODIFIED:20210915T122631Z
UID:10000597-1638730800-1638734400@thinkfast.sheridancollege.ca
SUMMARY:Coding Club Weekly Meeting
DESCRIPTION:Join us (virtually) every Sunday from 7:00 – 8:00 pm to get your code on! \nOur meetings focus on discussion around technology\, project brainstorming\,  creation of short projects (Webapps using JS/frameworks) and solving algorithms and data structure problems (HackerRank/leetcode). \nIt’s a great space to meet like-minds and share information about and practice all-things-coding. \nJoin our Discord server for all club-related communications.
URL:https://thinkfast.sheridancollege.ca/event/coding-club-weekly-meeting/2021-12-05/
CATEGORIES:Coding Syndicate of Sheridan
ATTACH;FMTTYPE=image/png:https://thinkfast.sheridancollege.ca/wp-content/uploads/2021/09/css-poster-sep-2021.png
END:VEVENT
BEGIN:VEVENT
DTSTART;TZID=America/Toronto:20211207T183000
DTEND;TZID=America/Toronto:20211207T193000
DTSTAMP:20260422T212111
CREATED:20210914T132929Z
LAST-MODIFIED:20210914T132929Z
UID:10000577-1638901800-1638905400@thinkfast.sheridancollege.ca
SUMMARY:EE Club Meeting
DESCRIPTION:The Electronic Enabling Club meets every Tuesday for webinars in such topics as SMTAi_Expo. \nConnect with us for more information.
URL:https://thinkfast.sheridancollege.ca/event/ee-club-meeting/2021-12-07/
CATEGORIES:Electronic-Enabling Club (EE Club)
ATTACH;FMTTYPE=image/jpeg:https://thinkfast.sheridancollege.ca/wp-content/uploads/2021/09/logo_final.jpg
END:VEVENT
BEGIN:VEVENT
DTSTART;TZID=America/Toronto:20211209T190000
DTEND;TZID=America/Toronto:20211209T210000
DTSTAMP:20260422T212111
CREATED:20210915T135646Z
LAST-MODIFIED:20210927T185139Z
UID:10000607-1639076400-1639083600@thinkfast.sheridancollege.ca
SUMMARY:ISSessions Meet Up
DESCRIPTION:Welcome all new and returning students to ISSessions. \nJoin us every other Thursday for our meet ups where we gather with like-minds to discuss all-things InfoSec. From guest speakers to events and a Capture the Flag competition\, we have an active membership and welcome all. \n7:00 – Kick-Off\n7:05 – News Round-Up\n7:30 – Discussion\n8:00 – Break\n8:10 – Guest Speaker \nCheck us out and tune in to our virtual meetings on Discord or YouTube
URL:https://thinkfast.sheridancollege.ca/event/issessions-meet-up-6-2021-10-14/2021-12-09/
CATEGORIES:Information Security Sessions
ATTACH;FMTTYPE=image/jpeg:https://thinkfast.sheridancollege.ca/wp-content/uploads/2020/09/iss.jpg
END:VEVENT
BEGIN:VEVENT
DTSTART;TZID=America/Toronto:20211210T200000
DTEND;TZID=America/Toronto:20211210T210000
DTSTAMP:20260422T212111
CREATED:20210914T134110Z
LAST-MODIFIED:20210914T134255Z
UID:10000585-1639166400-1639170000@thinkfast.sheridancollege.ca
SUMMARY:Mobile Computing Club meeting
DESCRIPTION:The Mobile Computing Club meets every other Friday to discuss club events and activities including Coffee Chats with Alumni\, Skill Sharing sessions\, Open time for chatting with members and networking. \nJoin us this week – new members always welcome. To get the MS Teams login link\, contact us. \n 
URL:https://thinkfast.sheridancollege.ca/event/mobile-computing-club-meeting/2021-12-10/
CATEGORIES:Mobile Computing Club
ATTACH;FMTTYPE=image/png:https://thinkfast.sheridancollege.ca/wp-content/uploads/2021/09/mcc_logo-3.png
END:VEVENT
BEGIN:VEVENT
DTSTART;TZID=America/Toronto:20211212T190000
DTEND;TZID=America/Toronto:20211212T200000
DTSTAMP:20260422T212111
CREATED:20210915T122201Z
LAST-MODIFIED:20210915T122631Z
UID:10000598-1639335600-1639339200@thinkfast.sheridancollege.ca
SUMMARY:Coding Club Weekly Meeting
DESCRIPTION:Join us (virtually) every Sunday from 7:00 – 8:00 pm to get your code on! \nOur meetings focus on discussion around technology\, project brainstorming\,  creation of short projects (Webapps using JS/frameworks) and solving algorithms and data structure problems (HackerRank/leetcode). \nIt’s a great space to meet like-minds and share information about and practice all-things-coding. \nJoin our Discord server for all club-related communications.
URL:https://thinkfast.sheridancollege.ca/event/coding-club-weekly-meeting/2021-12-12/
CATEGORIES:Coding Syndicate of Sheridan
ATTACH;FMTTYPE=image/png:https://thinkfast.sheridancollege.ca/wp-content/uploads/2021/09/css-poster-sep-2021.png
END:VEVENT
BEGIN:VEVENT
DTSTART;TZID=America/Toronto:20211214T183000
DTEND;TZID=America/Toronto:20211214T193000
DTSTAMP:20260422T212111
CREATED:20210914T132929Z
LAST-MODIFIED:20210914T132929Z
UID:10000578-1639506600-1639510200@thinkfast.sheridancollege.ca
SUMMARY:EE Club Meeting
DESCRIPTION:The Electronic Enabling Club meets every Tuesday for webinars in such topics as SMTAi_Expo. \nConnect with us for more information.
URL:https://thinkfast.sheridancollege.ca/event/ee-club-meeting/2021-12-14/
CATEGORIES:Electronic-Enabling Club (EE Club)
ATTACH;FMTTYPE=image/jpeg:https://thinkfast.sheridancollege.ca/wp-content/uploads/2021/09/logo_final.jpg
END:VEVENT
BEGIN:VEVENT
DTSTART;TZID=America/Toronto:20211219T190000
DTEND;TZID=America/Toronto:20211219T200000
DTSTAMP:20260422T212111
CREATED:20210915T122201Z
LAST-MODIFIED:20210915T122631Z
UID:10000599-1639940400-1639944000@thinkfast.sheridancollege.ca
SUMMARY:Coding Club Weekly Meeting
DESCRIPTION:Join us (virtually) every Sunday from 7:00 – 8:00 pm to get your code on! \nOur meetings focus on discussion around technology\, project brainstorming\,  creation of short projects (Webapps using JS/frameworks) and solving algorithms and data structure problems (HackerRank/leetcode). \nIt’s a great space to meet like-minds and share information about and practice all-things-coding. \nJoin our Discord server for all club-related communications.
URL:https://thinkfast.sheridancollege.ca/event/coding-club-weekly-meeting/2021-12-19/
CATEGORIES:Coding Syndicate of Sheridan
ATTACH;FMTTYPE=image/png:https://thinkfast.sheridancollege.ca/wp-content/uploads/2021/09/css-poster-sep-2021.png
END:VEVENT
END:VCALENDAR