BEGIN:VCALENDAR
VERSION:2.0
PRODID:-//ThinkFAST - ECPv6.15.17.1//NONSGML v1.0//EN
CALSCALE:GREGORIAN
METHOD:PUBLISH
X-ORIGINAL-URL:https://thinkfast.sheridancollege.ca
X-WR-CALDESC:Events for ThinkFAST
REFRESH-INTERVAL;VALUE=DURATION:PT1H
X-Robots-Tag:noindex
X-PUBLISHED-TTL:PT1H
BEGIN:VTIMEZONE
TZID:America/Toronto
BEGIN:DAYLIGHT
TZOFFSETFROM:-0500
TZOFFSETTO:-0400
TZNAME:EDT
DTSTART:20200308T070000
END:DAYLIGHT
BEGIN:STANDARD
TZOFFSETFROM:-0400
TZOFFSETTO:-0500
TZNAME:EST
DTSTART:20201101T060000
END:STANDARD
BEGIN:DAYLIGHT
TZOFFSETFROM:-0500
TZOFFSETTO:-0400
TZNAME:EDT
DTSTART:20210314T070000
END:DAYLIGHT
BEGIN:STANDARD
TZOFFSETFROM:-0400
TZOFFSETTO:-0500
TZNAME:EST
DTSTART:20211107T060000
END:STANDARD
BEGIN:DAYLIGHT
TZOFFSETFROM:-0500
TZOFFSETTO:-0400
TZNAME:EDT
DTSTART:20220313T070000
END:DAYLIGHT
BEGIN:STANDARD
TZOFFSETFROM:-0400
TZOFFSETTO:-0500
TZNAME:EST
DTSTART:20221106T060000
END:STANDARD
END:VTIMEZONE
BEGIN:VEVENT
DTSTART;TZID=America/Toronto:20210304T190000
DTEND;TZID=America/Toronto:20210304T210000
DTSTAMP:20260423T135755
CREATED:20210126T154126Z
LAST-MODIFIED:20210406T181355Z
UID:10000547-1614884400-1614891600@thinkfast.sheridancollege.ca
SUMMARY:ISSessions Meet Up
DESCRIPTION:End-of-the-Year ISSessions this Thursday! \nHello Heather! \nWOW… What a year it’s been! \nIt brings the entire ISSessions team tremendous joy and happiness to end our exec term with such a massive successful CTF. As sad as it is for us\, this coming Thursday will be our team’s final ISSessions as execs. Look forward to seeing the new faces who will be shaping this wonderful community\, soon. \nWe have a fantastic meet-up planned for this Thursday\, April 8th\, at 7:00 PM EST!  For all of you who have been collecting those CCR hours\,we’ll walk you through the final steps to submit and claim those hours for this year and will be going over the Top CTF write-ups. If you have yet to submit yours\, please do it soon. Submissions close April 7th @ 11:59 PM \nAlso\, the application process to become an ISSessions exec will open soon. As it is the final meeting for the current execs\, we want to talk to YOU about why YOU should apply to be a part of the next exec team. We will share our favourite memories as well as our overall experiences as ISSessions execs. We will also answer any questions or put to rest any hesitations. \nIn addition\, we have a phenomenal guest speaker. Kyle Wickert\, featuring a talk about “How Companies are Modernizing your Infrastructure but Neglecting Your Security” \nKyle Wickert is Worldwide Strategic Architect with AlgoSec\, handling customers & technology globally with responsibilities including supporting strategic sales opportunities with account teams globally\, closely following industry trends\, shaping product priorities\, and regularly evangelizing solutions as one of AlgoSec’s thought-leading technical experts with customers\, at industry conferences\, trade shows\, and partners. Kyle graduated from Sheridan’s Computer Systems Technology Advanced Diploma Program in 2010. \nWe look forward to seeing you this Thursday!
URL:https://thinkfast.sheridancollege.ca/event/issessions-meet-up-4/2021-03-04/
LOCATION:Online\, Canada
CATEGORIES:Information Security Sessions
END:VEVENT
BEGIN:VEVENT
DTSTART;TZID=America/Toronto:20210311T190000
DTEND;TZID=America/Toronto:20210311T210000
DTSTAMP:20260423T135755
CREATED:20210126T154126Z
LAST-MODIFIED:20210406T181355Z
UID:10000548-1615489200-1615496400@thinkfast.sheridancollege.ca
SUMMARY:ISSessions Meet Up
DESCRIPTION:End-of-the-Year ISSessions this Thursday! \nHello Heather! \nWOW… What a year it’s been! \nIt brings the entire ISSessions team tremendous joy and happiness to end our exec term with such a massive successful CTF. As sad as it is for us\, this coming Thursday will be our team’s final ISSessions as execs. Look forward to seeing the new faces who will be shaping this wonderful community\, soon. \nWe have a fantastic meet-up planned for this Thursday\, April 8th\, at 7:00 PM EST!  For all of you who have been collecting those CCR hours\,we’ll walk you through the final steps to submit and claim those hours for this year and will be going over the Top CTF write-ups. If you have yet to submit yours\, please do it soon. Submissions close April 7th @ 11:59 PM \nAlso\, the application process to become an ISSessions exec will open soon. As it is the final meeting for the current execs\, we want to talk to YOU about why YOU should apply to be a part of the next exec team. We will share our favourite memories as well as our overall experiences as ISSessions execs. We will also answer any questions or put to rest any hesitations. \nIn addition\, we have a phenomenal guest speaker. Kyle Wickert\, featuring a talk about “How Companies are Modernizing your Infrastructure but Neglecting Your Security” \nKyle Wickert is Worldwide Strategic Architect with AlgoSec\, handling customers & technology globally with responsibilities including supporting strategic sales opportunities with account teams globally\, closely following industry trends\, shaping product priorities\, and regularly evangelizing solutions as one of AlgoSec’s thought-leading technical experts with customers\, at industry conferences\, trade shows\, and partners. Kyle graduated from Sheridan’s Computer Systems Technology Advanced Diploma Program in 2010. \nWe look forward to seeing you this Thursday!
URL:https://thinkfast.sheridancollege.ca/event/issessions-meet-up-4/2021-03-11/
LOCATION:Online\, Canada
CATEGORIES:Information Security Sessions
END:VEVENT
BEGIN:VEVENT
DTSTART;TZID=America/Toronto:20210316T190000
DTEND;TZID=America/Toronto:20210316T210000
DTSTAMP:20260423T135755
CREATED:20210309T134657Z
LAST-MODIFIED:20210309T144823Z
UID:10000561-1615921200-1615928400@thinkfast.sheridancollege.ca
SUMMARY:Special Guest\, Fred Vecchio\, shares insights on creating a successful start-up
DESCRIPTION:Join us on March 16th at 7:00 pm to hear Fred Vecchio\, entrepreneur extraordinaire\, speak about how to create a successful start-up. \nFred Vecchio has been starting successful companies and selling them for the past 30 years. Fred currently owns a company that provides technological solutions to unions across Canada\, with the headquarter office in Vaughan\, ON\, and a second office in Edmonton\, AB. \nNot only will you learn from Fred’s insights\, but all attendees will be entered to win a $10 Amazon gift card. \nComing to the next WISE meeting is a WIN-WIN! Register today!
URL:https://thinkfast.sheridancollege.ca/event/special-guest-fred-vecchio-shares-insights-on-how-to-create-a-successful-start-up/
LOCATION:Online\, Canada
CATEGORIES:WISE Club
ATTACH;FMTTYPE=image/png:https://thinkfast.sheridancollege.ca/wp-content/uploads/2021/03/beige-turquoise-and-pink-clean-un-style-environment-civil-society-sdg-instagram-post.png
END:VEVENT
BEGIN:VEVENT
DTSTART;TZID=America/Toronto:20210318T190000
DTEND;TZID=America/Toronto:20210318T210000
DTSTAMP:20260423T135755
CREATED:20210126T154126Z
LAST-MODIFIED:20210406T181355Z
UID:10000549-1616094000-1616101200@thinkfast.sheridancollege.ca
SUMMARY:ISSessions Meet Up
DESCRIPTION:End-of-the-Year ISSessions this Thursday! \nHello Heather! \nWOW… What a year it’s been! \nIt brings the entire ISSessions team tremendous joy and happiness to end our exec term with such a massive successful CTF. As sad as it is for us\, this coming Thursday will be our team’s final ISSessions as execs. Look forward to seeing the new faces who will be shaping this wonderful community\, soon. \nWe have a fantastic meet-up planned for this Thursday\, April 8th\, at 7:00 PM EST!  For all of you who have been collecting those CCR hours\,we’ll walk you through the final steps to submit and claim those hours for this year and will be going over the Top CTF write-ups. If you have yet to submit yours\, please do it soon. Submissions close April 7th @ 11:59 PM \nAlso\, the application process to become an ISSessions exec will open soon. As it is the final meeting for the current execs\, we want to talk to YOU about why YOU should apply to be a part of the next exec team. We will share our favourite memories as well as our overall experiences as ISSessions execs. We will also answer any questions or put to rest any hesitations. \nIn addition\, we have a phenomenal guest speaker. Kyle Wickert\, featuring a talk about “How Companies are Modernizing your Infrastructure but Neglecting Your Security” \nKyle Wickert is Worldwide Strategic Architect with AlgoSec\, handling customers & technology globally with responsibilities including supporting strategic sales opportunities with account teams globally\, closely following industry trends\, shaping product priorities\, and regularly evangelizing solutions as one of AlgoSec’s thought-leading technical experts with customers\, at industry conferences\, trade shows\, and partners. Kyle graduated from Sheridan’s Computer Systems Technology Advanced Diploma Program in 2010. \nWe look forward to seeing you this Thursday!
URL:https://thinkfast.sheridancollege.ca/event/issessions-meet-up-4/2021-03-18/
LOCATION:Online\, Canada
CATEGORIES:Information Security Sessions
END:VEVENT
BEGIN:VEVENT
DTSTART;TZID=America/Toronto:20210323T190000
DTEND;TZID=America/Toronto:20210323T210000
DTSTAMP:20260423T135755
CREATED:20210308T193706Z
LAST-MODIFIED:20210310T173333Z
UID:10000560-1616526000-1616533200@thinkfast.sheridancollege.ca
SUMMARY:WomXn in Trades Sheridan (WITS) Launch Meeting
DESCRIPTION:Join us on March 23rd at 7:00 for our first ever\, virtual\, WomXn in Trades Sheridan (WITS) meeting. We’re planning for bi-weekly meetings featuring speakers\, presentations and live discussions all from the comfort of your home. \nTo participate in this virtual event\, please register today! \n  \n 
URL:https://thinkfast.sheridancollege.ca/event/womxn-in-trades-sheridan-wits-launch-meeting/
LOCATION:Online\, Canada
CATEGORIES:WomXn in Trades Sheridan
ATTACH;FMTTYPE=image/jpeg:https://thinkfast.sheridancollege.ca/wp-content/uploads/2021/03/female-plumbing-student.jpg
END:VEVENT
BEGIN:VEVENT
DTSTART;TZID=America/Toronto:20210325T190000
DTEND;TZID=America/Toronto:20210325T210000
DTSTAMP:20260423T135755
CREATED:20210126T154126Z
LAST-MODIFIED:20210406T181355Z
UID:10000550-1616698800-1616706000@thinkfast.sheridancollege.ca
SUMMARY:ISSessions Meet Up
DESCRIPTION:End-of-the-Year ISSessions this Thursday! \nHello Heather! \nWOW… What a year it’s been! \nIt brings the entire ISSessions team tremendous joy and happiness to end our exec term with such a massive successful CTF. As sad as it is for us\, this coming Thursday will be our team’s final ISSessions as execs. Look forward to seeing the new faces who will be shaping this wonderful community\, soon. \nWe have a fantastic meet-up planned for this Thursday\, April 8th\, at 7:00 PM EST!  For all of you who have been collecting those CCR hours\,we’ll walk you through the final steps to submit and claim those hours for this year and will be going over the Top CTF write-ups. If you have yet to submit yours\, please do it soon. Submissions close April 7th @ 11:59 PM \nAlso\, the application process to become an ISSessions exec will open soon. As it is the final meeting for the current execs\, we want to talk to YOU about why YOU should apply to be a part of the next exec team. We will share our favourite memories as well as our overall experiences as ISSessions execs. We will also answer any questions or put to rest any hesitations. \nIn addition\, we have a phenomenal guest speaker. Kyle Wickert\, featuring a talk about “How Companies are Modernizing your Infrastructure but Neglecting Your Security” \nKyle Wickert is Worldwide Strategic Architect with AlgoSec\, handling customers & technology globally with responsibilities including supporting strategic sales opportunities with account teams globally\, closely following industry trends\, shaping product priorities\, and regularly evangelizing solutions as one of AlgoSec’s thought-leading technical experts with customers\, at industry conferences\, trade shows\, and partners. Kyle graduated from Sheridan’s Computer Systems Technology Advanced Diploma Program in 2010. \nWe look forward to seeing you this Thursday!
URL:https://thinkfast.sheridancollege.ca/event/issessions-meet-up-4/2021-03-25/
LOCATION:Online\, Canada
CATEGORIES:Information Security Sessions
END:VEVENT
BEGIN:VEVENT
DTSTART;TZID=America/Toronto:20210326T140000
DTEND;TZID=America/Toronto:20210326T150000
DTSTAMP:20260423T135755
CREATED:20210315T185223Z
LAST-MODIFIED:20210315T185310Z
UID:10000562-1616767200-1616770800@thinkfast.sheridancollege.ca
SUMMARY:March FAST Food For Thought
DESCRIPTION:Join us for FAST Food for Thought on Friday March 26th 2 p.m. – 3 p.m. EST. \nAt the March FAST Food for Thought\, you will learn about the benefits and challenges involved in applied research projects. Our guest speakers will discuss issues in our healthcare systems for patients who are living outside of primary care homes and address the demand for in-home care services. Also\, the simulation and optimization of novel energy and mining systems\, including experimental validation and demonstration of novel engineering concepts will be discussed. More importantly\, the panel will focus on student’s learning and the valuable experiences gained through their involvement in applied research projects. \nGuest Speakers: \nSyed Tanbeer\, Professor\, Applied Computing\nAmin Ghobeity\, Professor\, Mechanical and Electrical Engineering & Technology \nRegister today
URL:https://thinkfast.sheridancollege.ca/event/dont-miss-the-march-fast-food-for-thought/
LOCATION:Online\, Canada
ATTACH;FMTTYPE=image/jpeg:https://thinkfast.sheridancollege.ca/wp-content/uploads/2021/03/fast-food-for-thought-mar-26-2021.jpg
END:VEVENT
BEGIN:VEVENT
DTSTART;VALUE=DATE:20210327
DTEND;VALUE=DATE:20210328
DTSTAMP:20260423T135755
CREATED:20210301T161658Z
LAST-MODIFIED:20210301T162608Z
UID:10000558-1616803200-1616889599@thinkfast.sheridancollege.ca
SUMMARY:Capture the Flag (CTF) 2021 is coming
DESCRIPTION:Don’t miss the 2021 ISSessions CTF competition. Register today! \nWho:         Cybersecurity students enrolled in a post-secondary institution in Ontario\, Canada\nWhere:      From the comfort of your home (it’s all online)\nWhen:       March 27 from 9 AM – 9 PM AND March 28 from 9 AM – 6 PM\nRegistration Opens March 2\, 2021 \nThe online Capture the Flag event targets all years; first\, second\, third or even fourth; we welcome and encourage all! With challenges ranging in difficulty from very basic to intermediate\, and over 100 challenges in categories like Forensics\, Data Analysis\, Threat Hunting\, Web\, and many more\, this CTF is truly for all students! Teams of 1 – 4 are accepted; teams of 3 – 4 students are highly recommended. \nThere will also be mini-workshops throughout both days like ‘N-Day Vulnerability Research’\, ‘Wireshark Primer’ and ‘Bluetooth Hacking’ brought to you by our sponsors. This is an event you won’t want to miss! \nThere is a new category of channels in our Discord server called ‘ISSESSIONS_CTF – March 27 -28’. There you will find two channels: a channel that will hold all CTF updates and another channel to help you find a team! We will continue to post major updates under #club-announcements. In the coming weeks\, we will be posting an ISSessions CTF package to answer any questions you may have. \nFor the latest updates on the CTF\, please join or ISSessions Discord Server
URL:https://thinkfast.sheridancollege.ca/event/capture-the-flag-ctf-2021-is-coming/2021-03-27/
LOCATION:Online\, Canada
CATEGORIES:Information Security Sessions
ATTACH;FMTTYPE=image/jpeg:https://thinkfast.sheridancollege.ca/wp-content/uploads/2019/07/img_3978.jpg
END:VEVENT
BEGIN:VEVENT
DTSTART;VALUE=DATE:20210328
DTEND;VALUE=DATE:20210329
DTSTAMP:20260423T135755
CREATED:20210301T161658Z
LAST-MODIFIED:20210301T162608Z
UID:10000559-1616889600-1616975999@thinkfast.sheridancollege.ca
SUMMARY:Capture the Flag (CTF) 2021 is coming
DESCRIPTION:Don’t miss the 2021 ISSessions CTF competition. Register today! \nWho:         Cybersecurity students enrolled in a post-secondary institution in Ontario\, Canada\nWhere:      From the comfort of your home (it’s all online)\nWhen:       March 27 from 9 AM – 9 PM AND March 28 from 9 AM – 6 PM\nRegistration Opens March 2\, 2021 \nThe online Capture the Flag event targets all years; first\, second\, third or even fourth; we welcome and encourage all! With challenges ranging in difficulty from very basic to intermediate\, and over 100 challenges in categories like Forensics\, Data Analysis\, Threat Hunting\, Web\, and many more\, this CTF is truly for all students! Teams of 1 – 4 are accepted; teams of 3 – 4 students are highly recommended. \nThere will also be mini-workshops throughout both days like ‘N-Day Vulnerability Research’\, ‘Wireshark Primer’ and ‘Bluetooth Hacking’ brought to you by our sponsors. This is an event you won’t want to miss! \nThere is a new category of channels in our Discord server called ‘ISSESSIONS_CTF – March 27 -28’. There you will find two channels: a channel that will hold all CTF updates and another channel to help you find a team! We will continue to post major updates under #club-announcements. In the coming weeks\, we will be posting an ISSessions CTF package to answer any questions you may have. \nFor the latest updates on the CTF\, please join or ISSessions Discord Server
URL:https://thinkfast.sheridancollege.ca/event/capture-the-flag-ctf-2021-is-coming/2021-03-28/
LOCATION:Online\, Canada
CATEGORIES:Information Security Sessions
ATTACH;FMTTYPE=image/jpeg:https://thinkfast.sheridancollege.ca/wp-content/uploads/2019/07/img_3978.jpg
END:VEVENT
END:VCALENDAR