BEGIN:VCALENDAR
VERSION:2.0
PRODID:-//ThinkFAST - ECPv6.15.17.1//NONSGML v1.0//EN
CALSCALE:GREGORIAN
METHOD:PUBLISH
X-ORIGINAL-URL:https://thinkfast.sheridancollege.ca
X-WR-CALDESC:Events for ThinkFAST
REFRESH-INTERVAL;VALUE=DURATION:PT1H
X-Robots-Tag:noindex
X-PUBLISHED-TTL:PT1H
BEGIN:VTIMEZONE
TZID:America/Toronto
BEGIN:DAYLIGHT
TZOFFSETFROM:-0500
TZOFFSETTO:-0400
TZNAME:EDT
DTSTART:20190310T070000
END:DAYLIGHT
BEGIN:STANDARD
TZOFFSETFROM:-0400
TZOFFSETTO:-0500
TZNAME:EST
DTSTART:20191103T060000
END:STANDARD
BEGIN:DAYLIGHT
TZOFFSETFROM:-0500
TZOFFSETTO:-0400
TZNAME:EDT
DTSTART:20200308T070000
END:DAYLIGHT
BEGIN:STANDARD
TZOFFSETFROM:-0400
TZOFFSETTO:-0500
TZNAME:EST
DTSTART:20201101T060000
END:STANDARD
BEGIN:DAYLIGHT
TZOFFSETFROM:-0500
TZOFFSETTO:-0400
TZNAME:EDT
DTSTART:20210314T070000
END:DAYLIGHT
BEGIN:STANDARD
TZOFFSETFROM:-0400
TZOFFSETTO:-0500
TZNAME:EST
DTSTART:20211107T060000
END:STANDARD
END:VTIMEZONE
BEGIN:VEVENT
DTSTART;TZID=America/Toronto:20201204T190000
DTEND;TZID=America/Toronto:20201204T200000
DTSTAMP:20260423T190006
CREATED:20201020T181343Z
LAST-MODIFIED:20201102T171513Z
UID:10000534-1607108400-1607112000@thinkfast.sheridancollege.ca
SUMMARY:Coding Syndicate of Sheridan
DESCRIPTION:Join us every Friday evening from 7:00 PM to 8:00 PM to talk all things coding. \nFor more information\, please contact Club President\, Raj Rajput. \n 
URL:https://thinkfast.sheridancollege.ca/event/coding-syndicate-of-sheridan/2020-12-04/
CATEGORIES:Coding Syndicate of Sheridan
ATTACH;FMTTYPE=image/png:https://thinkfast.sheridancollege.ca/wp-content/uploads/2020/10/meeting-flyer-2020.png
END:VEVENT
BEGIN:VEVENT
DTSTART;TZID=America/Toronto:20201205T130000
DTEND;TZID=America/Toronto:20201205T160000
DTSTAMP:20260423T190006
CREATED:20201130T161342Z
LAST-MODIFIED:20201130T161342Z
UID:10000541-1607173200-1607184000@thinkfast.sheridancollege.ca
SUMMARY:ISSessions Pandas Workshop
DESCRIPTION:Join us for our Pandas workshop presented by ISSessions VP\, Louai Abboud\n________________________________________\nDate: December 5th\, 2020\nTime: 1:00-4:00 PM\nLocation: Online (Google Meet or Zoom)\nYears: 1-4 (ALL YEARS WELCOME) \nIn security\, we deal with tons of data on a daily basis: logs\, ticket data\, user behaviour analytics\, etc. Pandas is crucial in analyzing that data quickly and automating security processes for you. Alongside that\, Pandas is a great python library for anyone interested in Machine Learning; note that this is not an ML workshop\, but Pandas is used in ML. \nThis is an introductory workshop\, but you will quickly pick-up the concepts and learn a lot regardless of your year. You DO NOT need to know python for this workshop\, so don’t let that stop you from signing up. \nRequirements: Windows machine with VMWare installed. (MacOS or Linux allowed – use at your own risk) \nSign-up today
URL:https://thinkfast.sheridancollege.ca/event/issessions-pandas-workshop/
CATEGORIES:Information Security Sessions
END:VEVENT
BEGIN:VEVENT
DTSTART;TZID=America/Toronto:20201206T080000
DTEND;TZID=America/Toronto:20201206T170000
DTSTAMP:20260423T190006
CREATED:20200921T165050Z
LAST-MODIFIED:20200921T165050Z
UID:10000524-1607241600-1607274000@thinkfast.sheridancollege.ca
SUMMARY:National Day of Remembrance and Action of Violence Against Women in Canada
DESCRIPTION:
URL:https://thinkfast.sheridancollege.ca/event/national-day-of-remembrance-and-action-of-violence-against-women-in-canada/
END:VEVENT
BEGIN:VEVENT
DTSTART;TZID=America/Toronto:20201208T140000
DTEND;TZID=America/Toronto:20201208T160000
DTSTAMP:20260423T190006
CREATED:20201123T174838Z
LAST-MODIFIED:20201123T175344Z
UID:10000538-1607436000-1607443200@thinkfast.sheridancollege.ca
SUMMARY:Applied Computing Capstone Showcase
DESCRIPTION:Join us on December 8th for our virtual\, 2020 Applied Computing Capstone Showcase. Student groups will be competing for one of three awards\, the Edge-Ready Award\, the Student Experience Award\, and the Award that shall remain nameless. With up to six (6) presentations in each ‘Award Room’\, you’re bound to hear all the ingenuity our students used in developing their projects\, and their impactful\, real-world solutions. \nRegister today to attend the 2020 Capstone Showcase!
URL:https://thinkfast.sheridancollege.ca/event/applied-computing-capstone-showcase-2/
ATTACH;FMTTYPE=image/jpeg:https://thinkfast.sheridancollege.ca/wp-content/uploads/2020/11/image-for-flyer.jpg
END:VEVENT
BEGIN:VEVENT
DTSTART;TZID=America/Toronto:20201209T083000
DTEND;TZID=America/Toronto:20201209T170000
DTSTAMP:20260423T190006
CREATED:20201123T181918Z
LAST-MODIFIED:20201123T181918Z
UID:10000539-1607502600-1607533200@thinkfast.sheridancollege.ca
SUMMARY:Environmental Controls Showcase
DESCRIPTION:Join us on December 9th for our virtual\, 2020 Environmental Controls Showcase. \nStudent groups will be presenting their cumulative Environmental Controls projects throughout the day and taking audience questions.\nFor more information\, email Dr Shovini Dasgupta
URL:https://thinkfast.sheridancollege.ca/event/environmental-controls-showcase/
ATTACH;FMTTYPE=image/jpeg:https://thinkfast.sheridancollege.ca/wp-content/uploads/2019/11/environmental-4.jpg
END:VEVENT
BEGIN:VEVENT
DTSTART;TZID=America/Toronto:20201210T100000
DTEND;TZID=America/Toronto:20201210T110000
DTSTAMP:20260423T190006
CREATED:20201202T162920Z
LAST-MODIFIED:20201202T162920Z
UID:10000542-1607594400-1607598000@thinkfast.sheridancollege.ca
SUMMARY:FAST Food for Thought Webinar
DESCRIPTION:Please join us for the next FAST Food for Thought webinar. \nClick here to find out more.
URL:https://thinkfast.sheridancollege.ca/event/fast-food-for-thought-webinar/
END:VEVENT
BEGIN:VEVENT
DTSTART;TZID=America/Toronto:20201210T100000
DTEND;TZID=America/Toronto:20201210T120000
DTSTAMP:20260423T190006
CREATED:20201123T182840Z
LAST-MODIFIED:20201123T182840Z
UID:10000540-1607594400-1607601600@thinkfast.sheridancollege.ca
SUMMARY:Chemical Engineering Technical Report Showcase
DESCRIPTION:Join us on December 10th from 10:00 am until 12:00 noon to hear all about our student’s year-end technical reports. \nThe Showcase will feature the following projects: \nCross Current Liquid Liquid Extraction\nEffect of Impeller Diameter on Gas Dispersion within a Stir Tank Reactor\nOperation of an Anaerobic Bioreactor for the Production of Ethanol\nRecovery of Airplane Deicer through Vacuum Distillation\nOperation of an Electrolytic Cell\nOptimization of a Gas Absorption Column with Two Packing Materials
URL:https://thinkfast.sheridancollege.ca/event/chemical-engineering-technical-report-showcase/
ATTACH;FMTTYPE=image/jpeg:https://thinkfast.sheridancollege.ca/wp-content/uploads/2020/11/chem.jpg
END:VEVENT
BEGIN:VEVENT
DTSTART;TZID=America/Toronto:20201211T190000
DTEND;TZID=America/Toronto:20201211T200000
DTSTAMP:20260423T190006
CREATED:20201020T181343Z
LAST-MODIFIED:20201102T171513Z
UID:10000535-1607713200-1607716800@thinkfast.sheridancollege.ca
SUMMARY:Coding Syndicate of Sheridan
DESCRIPTION:Join us every Friday evening from 7:00 PM to 8:00 PM to talk all things coding. \nFor more information\, please contact Club President\, Raj Rajput. \n 
URL:https://thinkfast.sheridancollege.ca/event/coding-syndicate-of-sheridan/2020-12-11/
CATEGORIES:Coding Syndicate of Sheridan
ATTACH;FMTTYPE=image/png:https://thinkfast.sheridancollege.ca/wp-content/uploads/2020/10/meeting-flyer-2020.png
END:VEVENT
END:VCALENDAR