BEGIN:VCALENDAR
VERSION:2.0
PRODID:-//ThinkFAST - ECPv6.15.17.1//NONSGML v1.0//EN
CALSCALE:GREGORIAN
METHOD:PUBLISH
X-WR-CALNAME:ThinkFAST
X-ORIGINAL-URL:https://thinkfast.sheridancollege.ca
X-WR-CALDESC:Events for ThinkFAST
REFRESH-INTERVAL;VALUE=DURATION:PT1H
X-Robots-Tag:noindex
X-PUBLISHED-TTL:PT1H
BEGIN:VTIMEZONE
TZID:America/Toronto
BEGIN:DAYLIGHT
TZOFFSETFROM:-0500
TZOFFSETTO:-0400
TZNAME:EDT
DTSTART:20190310T070000
END:DAYLIGHT
BEGIN:STANDARD
TZOFFSETFROM:-0400
TZOFFSETTO:-0500
TZNAME:EST
DTSTART:20191103T060000
END:STANDARD
BEGIN:DAYLIGHT
TZOFFSETFROM:-0500
TZOFFSETTO:-0400
TZNAME:EDT
DTSTART:20200308T070000
END:DAYLIGHT
BEGIN:STANDARD
TZOFFSETFROM:-0400
TZOFFSETTO:-0500
TZNAME:EST
DTSTART:20201101T060000
END:STANDARD
BEGIN:DAYLIGHT
TZOFFSETFROM:-0500
TZOFFSETTO:-0400
TZNAME:EDT
DTSTART:20210314T070000
END:DAYLIGHT
BEGIN:STANDARD
TZOFFSETFROM:-0400
TZOFFSETTO:-0500
TZNAME:EST
DTSTART:20211107T060000
END:STANDARD
END:VTIMEZONE
BEGIN:VTIMEZONE
TZID:UTC
BEGIN:STANDARD
TZOFFSETFROM:+0000
TZOFFSETTO:+0000
TZNAME:UTC
DTSTART:20190101T000000
END:STANDARD
END:VTIMEZONE
BEGIN:VEVENT
DTSTART;TZID=America/Toronto:20200206T190000
DTEND;TZID=America/Toronto:20200206T210000
DTSTAMP:20260424T081350
CREATED:20200123T195158Z
LAST-MODIFIED:20200326T131401Z
UID:10000505-1581015600-1581022800@thinkfast.sheridancollege.ca
SUMMARY:Women in Science and Engineering Meet Up - CANCELLED
DESCRIPTION:Join us every Thursday from 7 – 9pm for games\, presentations\, career advice and much more.
URL:https://thinkfast.sheridancollege.ca/event/women-in-science-and-engineering-meet-up/2020-02-06/
CATEGORIES:WISE Club
END:VEVENT
BEGIN:VEVENT
DTSTART;TZID=America/Toronto:20200207T183000
DTEND;TZID=America/Toronto:20200207T200000
DTSTAMP:20260424T081350
CREATED:20191113T184248Z
LAST-MODIFIED:20200326T131328Z
UID:10000492-1581100200-1581105600@thinkfast.sheridancollege.ca
SUMMARY:Robotics Club - CANCELLED
DESCRIPTION:Davis Campus
URL:https://thinkfast.sheridancollege.ca/event/meeting/2020-02-07/
LOCATION:Davis Campus\, 7899 McLaughlin Road - H131\, Brampton\, Ontario\, L6Y 5H9\, Canada
CATEGORIES:Robotics Club
END:VEVENT
BEGIN:VEVENT
DTSTART;TZID=UTC:20200207T190000
DTEND;TZID=UTC:20200207T210000
DTSTAMP:20260424T081350
CREATED:20190517T215410Z
LAST-MODIFIED:20200326T131048Z
UID:10000475-1581102000-1581109200@thinkfast.sheridancollege.ca
SUMMARY:ISSessions Meet Up
DESCRIPTION:Join ISSessions for a biweekly round-up \nLocation: Room J102\, Sheridan Trafalgar Campus\, Oakville \nAgenda\n19:00 – Announcements with Louai\n19:05 – News Roundup with Nick\n19:25 – Project Den: OWASP IoT Top 10 with Nicholas Johnston\n19:55 – Guest Speaker : Alana Staszczyszyn on War in the Fifth Dimension: An Overview of the Weaponization of Information\n20:25 – Wrap and refreshments (across the street at the pub)
URL:https://thinkfast.sheridancollege.ca/event/may-1-5-event/2020-02-07/
LOCATION:Trafalgar campus\, Room B301
CATEGORIES:Information Security Sessions
ATTACH;FMTTYPE=image/jpeg:https://thinkfast.sheridancollege.ca/wp-content/uploads/2019/07/iss.jpg
END:VEVENT
BEGIN:VEVENT
DTSTART;TZID=America/Toronto:20200208T090000
DTEND;TZID=America/Toronto:20200208T120000
DTSTAMP:20260424T081350
CREATED:20200127T154202Z
LAST-MODIFIED:20200127T155047Z
UID:10000517-1581152400-1581163200@thinkfast.sheridancollege.ca
SUMMARY:ISS WORKSHOP! beginner & advance tracks. See NEWS tab for details.
DESCRIPTION:WORKSHOP!\nBeginner & Advance Tracks \nSee NEWS tab for details
URL:https://thinkfast.sheridancollege.ca/event/2405/
LOCATION:Trafalgar campus\, Room B301
CATEGORIES:Information Security Sessions
END:VEVENT
BEGIN:VEVENT
DTSTART;TZID=America/Toronto:20200213T190000
DTEND;TZID=America/Toronto:20200213T210000
DTSTAMP:20260424T081350
CREATED:20200123T195158Z
LAST-MODIFIED:20200326T131401Z
UID:10000506-1581620400-1581627600@thinkfast.sheridancollege.ca
SUMMARY:Women in Science and Engineering Meet Up - CANCELLED
DESCRIPTION:Join us every Thursday from 7 – 9pm for games\, presentations\, career advice and much more.
URL:https://thinkfast.sheridancollege.ca/event/women-in-science-and-engineering-meet-up/2020-02-13/
CATEGORIES:WISE Club
END:VEVENT
BEGIN:VEVENT
DTSTART;TZID=America/Toronto:20200214T183000
DTEND;TZID=America/Toronto:20200214T200000
DTSTAMP:20260424T081350
CREATED:20191113T184248Z
LAST-MODIFIED:20200326T131328Z
UID:10000493-1581705000-1581710400@thinkfast.sheridancollege.ca
SUMMARY:Robotics Club - CANCELLED
DESCRIPTION:Davis Campus
URL:https://thinkfast.sheridancollege.ca/event/meeting/2020-02-14/
LOCATION:Davis Campus\, 7899 McLaughlin Road - H131\, Brampton\, Ontario\, L6Y 5H9\, Canada
CATEGORIES:Robotics Club
END:VEVENT
BEGIN:VEVENT
DTSTART;TZID=America/Toronto:20200220T190000
DTEND;TZID=America/Toronto:20200220T210000
DTSTAMP:20260424T081350
CREATED:20200123T195158Z
LAST-MODIFIED:20200326T131401Z
UID:10000507-1582225200-1582232400@thinkfast.sheridancollege.ca
SUMMARY:Women in Science and Engineering Meet Up - CANCELLED
DESCRIPTION:Join us every Thursday from 7 – 9pm for games\, presentations\, career advice and much more.
URL:https://thinkfast.sheridancollege.ca/event/women-in-science-and-engineering-meet-up/2020-02-20/
CATEGORIES:WISE Club
END:VEVENT
BEGIN:VEVENT
DTSTART;TZID=America/Toronto:20200221T183000
DTEND;TZID=America/Toronto:20200221T200000
DTSTAMP:20260424T081350
CREATED:20191113T184248Z
LAST-MODIFIED:20200326T131328Z
UID:10000494-1582309800-1582315200@thinkfast.sheridancollege.ca
SUMMARY:Robotics Club - CANCELLED
DESCRIPTION:Davis Campus
URL:https://thinkfast.sheridancollege.ca/event/meeting/2020-02-21/
LOCATION:Davis Campus\, 7899 McLaughlin Road - H131\, Brampton\, Ontario\, L6Y 5H9\, Canada
CATEGORIES:Robotics Club
END:VEVENT
BEGIN:VEVENT
DTSTART;TZID=UTC:20200221T190000
DTEND;TZID=UTC:20200221T210000
DTSTAMP:20260424T081350
CREATED:20190517T215410Z
LAST-MODIFIED:20200326T131048Z
UID:10000476-1582311600-1582318800@thinkfast.sheridancollege.ca
SUMMARY:ISSessions Meet Up
DESCRIPTION:Join ISSessions for a biweekly round-up \nLocation: Room J102\, Sheridan Trafalgar Campus\, Oakville \nAgenda\n19:00 – Announcements with Louai\n19:05 – News Roundup with Nick\n19:25 – Project Den: OWASP IoT Top 10 with Nicholas Johnston\n19:55 – Guest Speaker : Alana Staszczyszyn on War in the Fifth Dimension: An Overview of the Weaponization of Information\n20:25 – Wrap and refreshments (across the street at the pub)
URL:https://thinkfast.sheridancollege.ca/event/may-1-5-event/2020-02-21/
LOCATION:Trafalgar campus\, Room B301
CATEGORIES:Information Security Sessions
ATTACH;FMTTYPE=image/jpeg:https://thinkfast.sheridancollege.ca/wp-content/uploads/2019/07/iss.jpg
END:VEVENT
BEGIN:VEVENT
DTSTART;TZID=America/Toronto:20200227T190000
DTEND;TZID=America/Toronto:20200227T210000
DTSTAMP:20260424T081350
CREATED:20200123T195158Z
LAST-MODIFIED:20200326T131401Z
UID:10000508-1582830000-1582837200@thinkfast.sheridancollege.ca
SUMMARY:Women in Science and Engineering Meet Up - CANCELLED
DESCRIPTION:Join us every Thursday from 7 – 9pm for games\, presentations\, career advice and much more.
URL:https://thinkfast.sheridancollege.ca/event/women-in-science-and-engineering-meet-up/2020-02-27/
CATEGORIES:WISE Club
END:VEVENT
BEGIN:VEVENT
DTSTART;TZID=America/Toronto:20200228T183000
DTEND;TZID=America/Toronto:20200228T200000
DTSTAMP:20260424T081350
CREATED:20191113T184248Z
LAST-MODIFIED:20200326T131328Z
UID:10000495-1582914600-1582920000@thinkfast.sheridancollege.ca
SUMMARY:Robotics Club - CANCELLED
DESCRIPTION:Davis Campus
URL:https://thinkfast.sheridancollege.ca/event/meeting/2020-02-28/
LOCATION:Davis Campus\, 7899 McLaughlin Road - H131\, Brampton\, Ontario\, L6Y 5H9\, Canada
CATEGORIES:Robotics Club
END:VEVENT
END:VCALENDAR