BEGIN:VCALENDAR
VERSION:2.0
PRODID:-//ThinkFAST - ECPv6.15.17.1//NONSGML v1.0//EN
CALSCALE:GREGORIAN
METHOD:PUBLISH
X-ORIGINAL-URL:https://thinkfast.sheridancollege.ca
X-WR-CALDESC:Events for ThinkFAST
REFRESH-INTERVAL;VALUE=DURATION:PT1H
X-Robots-Tag:noindex
X-PUBLISHED-TTL:PT1H
BEGIN:VTIMEZONE
TZID:America/Toronto
BEGIN:DAYLIGHT
TZOFFSETFROM:-0500
TZOFFSETTO:-0400
TZNAME:EDT
DTSTART:20190310T070000
END:DAYLIGHT
BEGIN:STANDARD
TZOFFSETFROM:-0400
TZOFFSETTO:-0500
TZNAME:EST
DTSTART:20191103T060000
END:STANDARD
BEGIN:DAYLIGHT
TZOFFSETFROM:-0500
TZOFFSETTO:-0400
TZNAME:EDT
DTSTART:20200308T070000
END:DAYLIGHT
BEGIN:STANDARD
TZOFFSETFROM:-0400
TZOFFSETTO:-0500
TZNAME:EST
DTSTART:20201101T060000
END:STANDARD
BEGIN:DAYLIGHT
TZOFFSETFROM:-0500
TZOFFSETTO:-0400
TZNAME:EDT
DTSTART:20210314T070000
END:DAYLIGHT
BEGIN:STANDARD
TZOFFSETFROM:-0400
TZOFFSETTO:-0500
TZNAME:EST
DTSTART:20211107T060000
END:STANDARD
END:VTIMEZONE
BEGIN:VTIMEZONE
TZID:UTC
BEGIN:STANDARD
TZOFFSETFROM:+0000
TZOFFSETTO:+0000
TZNAME:UTC
DTSTART:20190101T000000
END:STANDARD
END:VTIMEZONE
BEGIN:VEVENT
DTSTART;TZID=America/Toronto:20200110T183000
DTEND;TZID=America/Toronto:20200110T200000
DTSTAMP:20260424T093640
CREATED:20191113T184248Z
LAST-MODIFIED:20200326T131328Z
UID:10000488-1578681000-1578686400@thinkfast.sheridancollege.ca
SUMMARY:Robotics Club - CANCELLED
DESCRIPTION:Davis Campus
URL:https://thinkfast.sheridancollege.ca/event/meeting/2020-01-10/
LOCATION:Davis Campus\, 7899 McLaughlin Road - H131\, Brampton\, Ontario\, L6Y 5H9\, Canada
CATEGORIES:Robotics Club
END:VEVENT
BEGIN:VEVENT
DTSTART;TZID=UTC:20200110T190000
DTEND;TZID=UTC:20200110T210000
DTSTAMP:20260424T093640
CREATED:20190517T215410Z
LAST-MODIFIED:20200326T131048Z
UID:10000473-1578682800-1578690000@thinkfast.sheridancollege.ca
SUMMARY:ISSessions Meet Up
DESCRIPTION:Join ISSessions for a biweekly round-up \nLocation: Room J102\, Sheridan Trafalgar Campus\, Oakville \nAgenda\n19:00 – Announcements with Louai\n19:05 – News Roundup with Nick\n19:25 – Project Den: OWASP IoT Top 10 with Nicholas Johnston\n19:55 – Guest Speaker : Alana Staszczyszyn on War in the Fifth Dimension: An Overview of the Weaponization of Information\n20:25 – Wrap and refreshments (across the street at the pub)
URL:https://thinkfast.sheridancollege.ca/event/may-1-5-event/2020-01-10/
LOCATION:Trafalgar campus\, Room B301
CATEGORIES:Information Security Sessions
ATTACH;FMTTYPE=image/jpeg:https://thinkfast.sheridancollege.ca/wp-content/uploads/2019/07/iss.jpg
END:VEVENT
BEGIN:VEVENT
DTSTART;TZID=America/Toronto:20200117T183000
DTEND;TZID=America/Toronto:20200117T200000
DTSTAMP:20260424T093640
CREATED:20191113T184248Z
LAST-MODIFIED:20200326T131328Z
UID:10000489-1579285800-1579291200@thinkfast.sheridancollege.ca
SUMMARY:Robotics Club - CANCELLED
DESCRIPTION:Davis Campus
URL:https://thinkfast.sheridancollege.ca/event/meeting/2020-01-17/
LOCATION:Davis Campus\, 7899 McLaughlin Road - H131\, Brampton\, Ontario\, L6Y 5H9\, Canada
CATEGORIES:Robotics Club
END:VEVENT
BEGIN:VEVENT
DTSTART;TZID=America/Toronto:20200123T190000
DTEND;TZID=America/Toronto:20200123T210000
DTSTAMP:20260424T093640
CREATED:20200123T195158Z
LAST-MODIFIED:20200326T131401Z
UID:10000504-1579806000-1579813200@thinkfast.sheridancollege.ca
SUMMARY:Women in Science and Engineering Meet Up - CANCELLED
DESCRIPTION:Join us every Thursday from 7 – 9pm for games\, presentations\, career advice and much more.
URL:https://thinkfast.sheridancollege.ca/event/women-in-science-and-engineering-meet-up/2020-01-23/
CATEGORIES:WISE Club
END:VEVENT
BEGIN:VEVENT
DTSTART;TZID=America/Toronto:20200124T183000
DTEND;TZID=America/Toronto:20200124T200000
DTSTAMP:20260424T093640
CREATED:20191113T184248Z
LAST-MODIFIED:20200326T131328Z
UID:10000490-1579890600-1579896000@thinkfast.sheridancollege.ca
SUMMARY:Robotics Club - CANCELLED
DESCRIPTION:Davis Campus
URL:https://thinkfast.sheridancollege.ca/event/meeting/2020-01-24/
LOCATION:Davis Campus\, 7899 McLaughlin Road - H131\, Brampton\, Ontario\, L6Y 5H9\, Canada
CATEGORIES:Robotics Club
END:VEVENT
BEGIN:VEVENT
DTSTART;TZID=UTC:20200124T190000
DTEND;TZID=UTC:20200124T210000
DTSTAMP:20260424T093640
CREATED:20190517T215410Z
LAST-MODIFIED:20200326T131048Z
UID:10000474-1579892400-1579899600@thinkfast.sheridancollege.ca
SUMMARY:ISSessions Meet Up
DESCRIPTION:Join ISSessions for a biweekly round-up \nLocation: Room J102\, Sheridan Trafalgar Campus\, Oakville \nAgenda\n19:00 – Announcements with Louai\n19:05 – News Roundup with Nick\n19:25 – Project Den: OWASP IoT Top 10 with Nicholas Johnston\n19:55 – Guest Speaker : Alana Staszczyszyn on War in the Fifth Dimension: An Overview of the Weaponization of Information\n20:25 – Wrap and refreshments (across the street at the pub)
URL:https://thinkfast.sheridancollege.ca/event/may-1-5-event/2020-01-24/
LOCATION:Trafalgar campus\, Room B301
CATEGORIES:Information Security Sessions
ATTACH;FMTTYPE=image/jpeg:https://thinkfast.sheridancollege.ca/wp-content/uploads/2019/07/iss.jpg
END:VEVENT
BEGIN:VEVENT
DTSTART;TZID=America/Toronto:20200130T190000
DTEND;TZID=America/Toronto:20200130T210000
DTSTAMP:20260424T093640
CREATED:20200123T195158Z
LAST-MODIFIED:20200128T175534Z
UID:10000516-1580410800-1580418000@thinkfast.sheridancollege.ca
SUMMARY:Women in Science and Engineering Meet Up - this week: Games with Pizza & Prizes
DESCRIPTION:Join us every Thursday from 7 – 9pm for games\, presentations\, career advice and much more. \n(Interested in starting a Trafalgar campus chapter? Let us know.)
URL:https://thinkfast.sheridancollege.ca/event/women-in-science-and-engineering-meet-up-2020-01-30/
LOCATION:Davis – H232
CATEGORIES:WISE Club
END:VEVENT
BEGIN:VEVENT
DTSTART;TZID=America/Toronto:20200131T183000
DTEND;TZID=America/Toronto:20200131T200000
DTSTAMP:20260424T093640
CREATED:20191113T184248Z
LAST-MODIFIED:20200326T131328Z
UID:10000491-1580495400-1580500800@thinkfast.sheridancollege.ca
SUMMARY:Robotics Club - CANCELLED
DESCRIPTION:Davis Campus
URL:https://thinkfast.sheridancollege.ca/event/meeting/2020-01-31/
LOCATION:Davis Campus\, 7899 McLaughlin Road - H131\, Brampton\, Ontario\, L6Y 5H9\, Canada
CATEGORIES:Robotics Club
END:VEVENT
END:VCALENDAR