BEGIN:VCALENDAR
VERSION:2.0
PRODID:-//ThinkFAST - ECPv6.15.17.1//NONSGML v1.0//EN
CALSCALE:GREGORIAN
METHOD:PUBLISH
X-ORIGINAL-URL:https://thinkfast.sheridancollege.ca
X-WR-CALDESC:Events for ThinkFAST
REFRESH-INTERVAL;VALUE=DURATION:PT1H
X-Robots-Tag:noindex
X-PUBLISHED-TTL:PT1H
BEGIN:VTIMEZONE
TZID:America/Toronto
BEGIN:DAYLIGHT
TZOFFSETFROM:-0500
TZOFFSETTO:-0400
TZNAME:EDT
DTSTART:20230312T070000
END:DAYLIGHT
BEGIN:STANDARD
TZOFFSETFROM:-0400
TZOFFSETTO:-0500
TZNAME:EST
DTSTART:20231105T060000
END:STANDARD
BEGIN:DAYLIGHT
TZOFFSETFROM:-0500
TZOFFSETTO:-0400
TZNAME:EDT
DTSTART:20240310T070000
END:DAYLIGHT
BEGIN:STANDARD
TZOFFSETFROM:-0400
TZOFFSETTO:-0500
TZNAME:EST
DTSTART:20241103T060000
END:STANDARD
BEGIN:DAYLIGHT
TZOFFSETFROM:-0500
TZOFFSETTO:-0400
TZNAME:EDT
DTSTART:20250309T070000
END:DAYLIGHT
BEGIN:STANDARD
TZOFFSETFROM:-0400
TZOFFSETTO:-0500
TZNAME:EST
DTSTART:20251102T060000
END:STANDARD
BEGIN:DAYLIGHT
TZOFFSETFROM:-0500
TZOFFSETTO:-0400
TZNAME:EDT
DTSTART:20260308T070000
END:DAYLIGHT
BEGIN:STANDARD
TZOFFSETFROM:-0400
TZOFFSETTO:-0500
TZNAME:EST
DTSTART:20261101T060000
END:STANDARD
END:VTIMEZONE
BEGIN:VEVENT
DTSTART;TZID=America/Toronto:20241116T100000
DTEND;TZID=America/Toronto:20241117T140000
DTSTAMP:20260422T183233
CREATED:20241113T195859Z
LAST-MODIFIED:20241113T195859Z
UID:10000633-1731751200-1731852000@thinkfast.sheridancollege.ca
SUMMARY:Fall Open House
DESCRIPTION:Come to one of our Fall Open House events!\nTrafalgar Road Campus (Oakville)\nSaturday\, November 16\, 2024\n10 a.m.–2 p.m. EST\nParking is FREE! \nDavis Campus (Brampton) and Hazel McCallion Campus (Mississauga)\nSunday\, November 17\, 2024\n10 a.m.–2 p.m. EST\nParking is FREE! \nEach campus offers a different selection of programs. Make sure you plan to attend Open House at the campus where your top choice is offered.  \nFind out where your program is offered.
URL:https://thinkfast.sheridancollege.ca/event/fall-open-house/
LOCATION:Trafalgar campus\, Room B301
END:VEVENT
BEGIN:VEVENT
DTSTART;TZID=America/Toronto:20241126T090000
DTEND;TZID=America/Toronto:20241126T140000
DTSTAMP:20260422T183233
CREATED:20241112T193847Z
LAST-MODIFIED:20241112T193847Z
UID:10000630-1732611600-1732629600@thinkfast.sheridancollege.ca
SUMMARY:Level Up 2024
DESCRIPTION:November 26th to 28th at the International Centre Hall 2 \nMore information can be found at https://levelupontario.ca/
URL:https://thinkfast.sheridancollege.ca/event/level-up-2024/
END:VEVENT
BEGIN:VEVENT
DTSTART;TZID=America/Toronto:20241126T160000
DTEND;TZID=America/Toronto:20241126T180000
DTSTAMP:20260422T183233
CREATED:20241112T195043Z
LAST-MODIFIED:20241112T195043Z
UID:10000631-1732636800-1732644000@thinkfast.sheridancollege.ca
SUMMARY:Software Development and Network Engineering Capstone Showcase
DESCRIPTION:Software Development and Network Engineering Capstone Showcase\nNov. 26th from 4pm to 6pm.\nDavis Learning Commons\, 2nd Floor
URL:https://thinkfast.sheridancollege.ca/event/software-development-and-network-engineering-capstone-showcase/
LOCATION:Davis Campus\, 7899 McLaughlin Road - H131\, Brampton\, Ontario\, L6Y 5H9\, Canada
END:VEVENT
BEGIN:VEVENT
DTSTART;TZID=America/Toronto:20250729T110000
DTEND;TZID=America/Toronto:20250729T150000
DTSTAMP:20260422T183233
CREATED:20250717T151350Z
LAST-MODIFIED:20250717T151350Z
UID:10000636-1753786800-1753801200@thinkfast.sheridancollege.ca
SUMMARY:Arch Small Business Bazaar
DESCRIPTION:Location: HMC\, Creative Commons
URL:https://thinkfast.sheridancollege.ca/event/arch-small-business-bazaar/
CATEGORIES:Architecture Club
END:VEVENT
BEGIN:VEVENT
DTSTART;TZID=America/Toronto:20250806T140000
DTEND;TZID=America/Toronto:20250806T150000
DTSTAMP:20260422T183233
CREATED:20250627T173020Z
LAST-MODIFIED:20250627T173020Z
UID:10000634-1754488800-1754492400@thinkfast.sheridancollege.ca
SUMMARY:Environmental Control Showcase
DESCRIPTION:Sheridan College – Davis Campus\, Room B214
URL:https://thinkfast.sheridancollege.ca/event/environmental-control-showcase/
END:VEVENT
BEGIN:VEVENT
DTSTART;TZID=America/Toronto:20250811T120000
DTEND;TZID=America/Toronto:20250814T150000
DTSTAMP:20260422T183233
CREATED:20250710T154019Z
LAST-MODIFIED:20250710T154019Z
UID:10000635-1754913600-1755183600@thinkfast.sheridancollege.ca
SUMMARY:Arch & UD Grad Show - August 11-14\, Showcase Hours\, 12pm-3pm
DESCRIPTION:
URL:https://thinkfast.sheridancollege.ca/event/arch-ud-grad-show-august-11-14-showcase-hours-12pm-3pm/
END:VEVENT
BEGIN:VEVENT
DTSTART;TZID=America/Toronto:20250905T150000
DTEND;TZID=America/Toronto:20250905T170000
DTSTAMP:20260422T183233
CREATED:20250722T130346Z
LAST-MODIFIED:20250722T130346Z
UID:10000637-1757084400-1757091600@thinkfast.sheridancollege.ca
SUMMARY:Fourplex: 1 House 4 Homes Exhibit
DESCRIPTION:An exhibit presented in collaboration between @sheridan_college and @citymississauga \, showcasing the work of Sheridan students. The featured project\, ‘Fourplex: 1 House 4 Homes’\, tells the story of interconnected characters who\, while navigating life under one roof\, ultimately shape four distinct homes. \n  \n🗓️ Opening Day: Sep 5th 2025 @3pm \n  \n📍HMC Sheridan College\, B-Building\, 2nd Floor\, Creative Campus Gallery
URL:https://thinkfast.sheridancollege.ca/event/fourplex-1-house-4-homes-exhibit/
LOCATION:HMC
CATEGORIES:Architecture Club
END:VEVENT
END:VCALENDAR