BEGIN:VCALENDAR
VERSION:2.0
PRODID:-//ThinkFAST - ECPv6.15.17.1//NONSGML v1.0//EN
CALSCALE:GREGORIAN
METHOD:PUBLISH
X-WR-CALNAME:ThinkFAST
X-ORIGINAL-URL:https://thinkfast.sheridancollege.ca
X-WR-CALDESC:Events for ThinkFAST
REFRESH-INTERVAL;VALUE=DURATION:PT1H
X-Robots-Tag:noindex
X-PUBLISHED-TTL:PT1H
BEGIN:VTIMEZONE
TZID:America/Toronto
BEGIN:DAYLIGHT
TZOFFSETFROM:-0500
TZOFFSETTO:-0400
TZNAME:EDT
DTSTART:20200308T070000
END:DAYLIGHT
BEGIN:STANDARD
TZOFFSETFROM:-0400
TZOFFSETTO:-0500
TZNAME:EST
DTSTART:20201101T060000
END:STANDARD
BEGIN:DAYLIGHT
TZOFFSETFROM:-0500
TZOFFSETTO:-0400
TZNAME:EDT
DTSTART:20210314T070000
END:DAYLIGHT
BEGIN:STANDARD
TZOFFSETFROM:-0400
TZOFFSETTO:-0500
TZNAME:EST
DTSTART:20211107T060000
END:STANDARD
BEGIN:DAYLIGHT
TZOFFSETFROM:-0500
TZOFFSETTO:-0400
TZNAME:EDT
DTSTART:20220313T070000
END:DAYLIGHT
BEGIN:STANDARD
TZOFFSETFROM:-0400
TZOFFSETTO:-0500
TZNAME:EST
DTSTART:20221106T060000
END:STANDARD
END:VTIMEZONE
BEGIN:VEVENT
DTSTART;TZID=America/Toronto:20210323T190000
DTEND;TZID=America/Toronto:20210323T210000
DTSTAMP:20260420T221738
CREATED:20210308T193706Z
LAST-MODIFIED:20210310T173333Z
UID:10000560-1616526000-1616533200@thinkfast.sheridancollege.ca
SUMMARY:WomXn in Trades Sheridan (WITS) Launch Meeting
DESCRIPTION:Join us on March 23rd at 7:00 for our first ever\, virtual\, WomXn in Trades Sheridan (WITS) meeting. We’re planning for bi-weekly meetings featuring speakers\, presentations and live discussions all from the comfort of your home. \nTo participate in this virtual event\, please register today! \n  \n 
URL:https://thinkfast.sheridancollege.ca/event/womxn-in-trades-sheridan-wits-launch-meeting/
LOCATION:Online\, Canada
CATEGORIES:WomXn in Trades Sheridan
ATTACH;FMTTYPE=image/jpeg:https://thinkfast.sheridancollege.ca/wp-content/uploads/2021/03/female-plumbing-student.jpg
END:VEVENT
END:VCALENDAR