BEGIN:VCALENDAR
VERSION:2.0
PRODID:-//ThinkFAST - ECPv6.15.17.1//NONSGML v1.0//EN
CALSCALE:GREGORIAN
METHOD:PUBLISH
X-ORIGINAL-URL:https://thinkfast.sheridancollege.ca
X-WR-CALDESC:Events for ThinkFAST
REFRESH-INTERVAL;VALUE=DURATION:PT1H
X-Robots-Tag:noindex
X-PUBLISHED-TTL:PT1H
BEGIN:VTIMEZONE
TZID:America/Toronto
BEGIN:DAYLIGHT
TZOFFSETFROM:-0500
TZOFFSETTO:-0400
TZNAME:EDT
DTSTART:20180311T070000
END:DAYLIGHT
BEGIN:STANDARD
TZOFFSETFROM:-0400
TZOFFSETTO:-0500
TZNAME:EST
DTSTART:20181104T060000
END:STANDARD
BEGIN:DAYLIGHT
TZOFFSETFROM:-0500
TZOFFSETTO:-0400
TZNAME:EDT
DTSTART:20190310T070000
END:DAYLIGHT
BEGIN:STANDARD
TZOFFSETFROM:-0400
TZOFFSETTO:-0500
TZNAME:EST
DTSTART:20191103T060000
END:STANDARD
BEGIN:DAYLIGHT
TZOFFSETFROM:-0500
TZOFFSETTO:-0400
TZNAME:EDT
DTSTART:20200308T070000
END:DAYLIGHT
BEGIN:STANDARD
TZOFFSETFROM:-0400
TZOFFSETTO:-0500
TZNAME:EST
DTSTART:20201101T060000
END:STANDARD
BEGIN:DAYLIGHT
TZOFFSETFROM:-0500
TZOFFSETTO:-0400
TZNAME:EDT
DTSTART:20210314T070000
END:DAYLIGHT
BEGIN:STANDARD
TZOFFSETFROM:-0400
TZOFFSETTO:-0500
TZNAME:EST
DTSTART:20211107T060000
END:STANDARD
BEGIN:DAYLIGHT
TZOFFSETFROM:-0500
TZOFFSETTO:-0400
TZNAME:EDT
DTSTART:20220313T070000
END:DAYLIGHT
BEGIN:STANDARD
TZOFFSETFROM:-0400
TZOFFSETTO:-0500
TZNAME:EST
DTSTART:20221106T060000
END:STANDARD
END:VTIMEZONE
BEGIN:VEVENT
DTSTART;TZID=America/Toronto:20210226T110000
DTEND;TZID=America/Toronto:20210226T120000
DTSTAMP:20260420T165456
CREATED:20210217T164013Z
LAST-MODIFIED:20210217T164103Z
UID:10000557-1614337200-1614340800@thinkfast.sheridancollege.ca
SUMMARY:FAST Food for Thought
DESCRIPTION:Join us in learning about projects from our School of Mechanical and Electrical Engineering at our next FAST Food for Thought. \nGuest Speakers include Joaquin Moran and Farzin Abbasian from Mechanical and Electrical Engineering Technology\, and Ramzy Ganady from the Centre for Advanced Manufacturing and Design Technologies \nRegister today!
URL:https://thinkfast.sheridancollege.ca/event/fast-food-for-thought/
LOCATION:Online\, Canada
CATEGORIES:Engineering Design Club,Sheridan Engineering Club,Sheridan Engineering Society
END:VEVENT
BEGIN:VEVENT
DTSTART;TZID=America/Toronto:20191026T100000
DTEND;TZID=America/Toronto:20191026T150000
DTSTAMP:20260420T165456
CREATED:20190509T222645Z
LAST-MODIFIED:20190925T182621Z
UID:10000463-1572084000-1572102000@thinkfast.sheridancollege.ca
SUMMARY:Brampton Tech Fair 2019
DESCRIPTION:Join us for the 2019 Brampton Tech Fair – a free event where everyone can discover current technologies and get involved in hands-on demonstrations. Learn about computer applications\, robotics\, 3D printing and more. Great for all ages and abilities. \nBrampton Library – Chinguacousy Branch\, 150 Central Park Dr\, Brampton\, Ontario
URL:https://thinkfast.sheridancollege.ca/event/july-1-start-day/
LOCATION:Brampton Library\, Springdale branch 10705 Bramalea Rd\, Brampton\, Ontario\, Canada
CATEGORIES:Architecture Club,Chemistry Club,Coding Syndicate of Sheridan,Drone Club,Electric Vehicle Club,Sheridan Engineering Club,WISE Club
ATTACH;FMTTYPE=image/jpeg:https://thinkfast.sheridancollege.ca/wp-content/uploads/2019/09/img_4050.jpg
END:VEVENT
END:VCALENDAR