BEGIN:VCALENDAR
VERSION:2.0
PRODID:-//ThinkFAST - ECPv6.15.17.1//NONSGML v1.0//EN
CALSCALE:GREGORIAN
METHOD:PUBLISH
X-WR-CALNAME:ThinkFAST
X-ORIGINAL-URL:https://thinkfast.sheridancollege.ca
X-WR-CALDESC:Events for ThinkFAST
REFRESH-INTERVAL;VALUE=DURATION:PT1H
X-Robots-Tag:noindex
X-PUBLISHED-TTL:PT1H
BEGIN:VTIMEZONE
TZID:America/Toronto
BEGIN:DAYLIGHT
TZOFFSETFROM:-0500
TZOFFSETTO:-0400
TZNAME:EDT
DTSTART:20180311T070000
END:DAYLIGHT
BEGIN:STANDARD
TZOFFSETFROM:-0400
TZOFFSETTO:-0500
TZNAME:EST
DTSTART:20181104T060000
END:STANDARD
BEGIN:DAYLIGHT
TZOFFSETFROM:-0500
TZOFFSETTO:-0400
TZNAME:EDT
DTSTART:20190310T070000
END:DAYLIGHT
BEGIN:STANDARD
TZOFFSETFROM:-0400
TZOFFSETTO:-0500
TZNAME:EST
DTSTART:20191103T060000
END:STANDARD
BEGIN:DAYLIGHT
TZOFFSETFROM:-0500
TZOFFSETTO:-0400
TZNAME:EDT
DTSTART:20200308T070000
END:DAYLIGHT
BEGIN:STANDARD
TZOFFSETFROM:-0400
TZOFFSETTO:-0500
TZNAME:EST
DTSTART:20201101T060000
END:STANDARD
BEGIN:DAYLIGHT
TZOFFSETFROM:-0500
TZOFFSETTO:-0400
TZNAME:EDT
DTSTART:20210314T070000
END:DAYLIGHT
BEGIN:STANDARD
TZOFFSETFROM:-0400
TZOFFSETTO:-0500
TZNAME:EST
DTSTART:20211107T060000
END:STANDARD
BEGIN:DAYLIGHT
TZOFFSETFROM:-0500
TZOFFSETTO:-0400
TZNAME:EDT
DTSTART:20220313T070000
END:DAYLIGHT
BEGIN:STANDARD
TZOFFSETFROM:-0400
TZOFFSETTO:-0500
TZNAME:EST
DTSTART:20221106T060000
END:STANDARD
BEGIN:DAYLIGHT
TZOFFSETFROM:-0500
TZOFFSETTO:-0400
TZNAME:EDT
DTSTART:20230312T070000
END:DAYLIGHT
BEGIN:STANDARD
TZOFFSETFROM:-0400
TZOFFSETTO:-0500
TZNAME:EST
DTSTART:20231105T060000
END:STANDARD
END:VTIMEZONE
BEGIN:VEVENT
DTSTART;TZID=America/Toronto:20220317T193000
DTEND;TZID=America/Toronto:20220317T210000
DTSTAMP:20260420T191937
CREATED:20220201T211404Z
LAST-MODIFIED:20220201T211404Z
UID:10000621-1647545400-1647550800@thinkfast.sheridancollege.ca
SUMMARY:Mobile Computing Club - Alumni Event
DESCRIPTION:The Mobile Computing Club meets to discuss club events and activities including Coffee Chats with Alumni\, Skill Sharing sessions\, Open time for chatting with members\, and networking. \nJoin us – new members are always welcome. To get the MS Teams login link\, contact us.
URL:https://thinkfast.sheridancollege.ca/event/mobile-computing-club-alumni-event/
CATEGORIES:Mobile Computing Club
ATTACH;FMTTYPE=image/png:https://thinkfast.sheridancollege.ca/wp-content/uploads/2021/09/mcc_logo-2.png
END:VEVENT
BEGIN:VEVENT
DTSTART;TZID=America/Toronto:20220217T190000
DTEND;TZID=America/Toronto:20220217T200000
DTSTAMP:20260420T191937
CREATED:20220201T211305Z
LAST-MODIFIED:20220201T211305Z
UID:10000620-1645124400-1645128000@thinkfast.sheridancollege.ca
SUMMARY:Mobile Computing Club - Co-op Experiences Night
DESCRIPTION:The Mobile Computing Club meets to discuss club events and activities including Coffee Chats with Alumni\, Skill Sharing sessions\, Open time for chatting with members\, and networking. \nJoin us – new members are always welcome. To get the MS Teams login link\, contact us.
URL:https://thinkfast.sheridancollege.ca/event/mobile-computing-club-co-op-experiences-night/
CATEGORIES:Mobile Computing Club
ATTACH;FMTTYPE=image/png:https://thinkfast.sheridancollege.ca/wp-content/uploads/2021/09/mcc_logo-2.png
END:VEVENT
BEGIN:VEVENT
DTSTART;TZID=America/Toronto:20220203T173000
DTEND;TZID=America/Toronto:20220203T190000
DTSTAMP:20260420T191937
CREATED:20220201T211041Z
LAST-MODIFIED:20220201T211041Z
UID:10000619-1643909400-1643914800@thinkfast.sheridancollege.ca
SUMMARY:Mobile Computing Club - Welcome Event
DESCRIPTION:The Mobile Computing Club meets to discuss club events and activities including Coffee Chats with Alumni\, Skill Sharing sessions\, Open time for chatting with members\, and networking. \nJoin us – new members always welcome. To get the MS Teams login link\, contact us.
URL:https://thinkfast.sheridancollege.ca/event/mobile-computing-club-welcome-event/
CATEGORIES:Mobile Computing Club
ATTACH;FMTTYPE=image/png:https://thinkfast.sheridancollege.ca/wp-content/uploads/2021/09/mcc_logo-2.png
END:VEVENT
BEGIN:VEVENT
DTSTART;TZID=America/Toronto:20211210T200000
DTEND;TZID=America/Toronto:20211210T210000
DTSTAMP:20260420T191937
CREATED:20210914T134110Z
LAST-MODIFIED:20210914T134255Z
UID:10000585-1639166400-1639170000@thinkfast.sheridancollege.ca
SUMMARY:Mobile Computing Club meeting
DESCRIPTION:The Mobile Computing Club meets every other Friday to discuss club events and activities including Coffee Chats with Alumni\, Skill Sharing sessions\, Open time for chatting with members and networking. \nJoin us this week – new members always welcome. To get the MS Teams login link\, contact us. \n 
URL:https://thinkfast.sheridancollege.ca/event/mobile-computing-club-meeting/2021-12-10/
CATEGORIES:Mobile Computing Club
ATTACH;FMTTYPE=image/png:https://thinkfast.sheridancollege.ca/wp-content/uploads/2021/09/mcc_logo-3.png
END:VEVENT
BEGIN:VEVENT
DTSTART;TZID=America/Toronto:20211126T200000
DTEND;TZID=America/Toronto:20211126T210000
DTSTAMP:20260420T191937
CREATED:20210914T134110Z
LAST-MODIFIED:20210914T134255Z
UID:10000584-1637956800-1637960400@thinkfast.sheridancollege.ca
SUMMARY:Mobile Computing Club meeting
DESCRIPTION:The Mobile Computing Club meets every other Friday to discuss club events and activities including Coffee Chats with Alumni\, Skill Sharing sessions\, Open time for chatting with members and networking. \nJoin us this week – new members always welcome. To get the MS Teams login link\, contact us. \n 
URL:https://thinkfast.sheridancollege.ca/event/mobile-computing-club-meeting/2021-11-26/
CATEGORIES:Mobile Computing Club
ATTACH;FMTTYPE=image/png:https://thinkfast.sheridancollege.ca/wp-content/uploads/2021/09/mcc_logo-3.png
END:VEVENT
BEGIN:VEVENT
DTSTART;TZID=America/Toronto:20211112T200000
DTEND;TZID=America/Toronto:20211112T210000
DTSTAMP:20260420T191937
CREATED:20210914T134110Z
LAST-MODIFIED:20210914T134255Z
UID:10000583-1636747200-1636750800@thinkfast.sheridancollege.ca
SUMMARY:Mobile Computing Club meeting
DESCRIPTION:The Mobile Computing Club meets every other Friday to discuss club events and activities including Coffee Chats with Alumni\, Skill Sharing sessions\, Open time for chatting with members and networking. \nJoin us this week – new members always welcome. To get the MS Teams login link\, contact us. \n 
URL:https://thinkfast.sheridancollege.ca/event/mobile-computing-club-meeting/2021-11-12/
CATEGORIES:Mobile Computing Club
ATTACH;FMTTYPE=image/png:https://thinkfast.sheridancollege.ca/wp-content/uploads/2021/09/mcc_logo-3.png
END:VEVENT
BEGIN:VEVENT
DTSTART;TZID=America/Toronto:20211029T200000
DTEND;TZID=America/Toronto:20211029T210000
DTSTAMP:20260420T191937
CREATED:20210914T134110Z
LAST-MODIFIED:20210914T134255Z
UID:10000582-1635537600-1635541200@thinkfast.sheridancollege.ca
SUMMARY:Mobile Computing Club meeting
DESCRIPTION:The Mobile Computing Club meets every other Friday to discuss club events and activities including Coffee Chats with Alumni\, Skill Sharing sessions\, Open time for chatting with members and networking. \nJoin us this week – new members always welcome. To get the MS Teams login link\, contact us. \n 
URL:https://thinkfast.sheridancollege.ca/event/mobile-computing-club-meeting/2021-10-29/
CATEGORIES:Mobile Computing Club
ATTACH;FMTTYPE=image/png:https://thinkfast.sheridancollege.ca/wp-content/uploads/2021/09/mcc_logo-3.png
END:VEVENT
BEGIN:VEVENT
DTSTART;TZID=America/Toronto:20211015T200000
DTEND;TZID=America/Toronto:20211015T210000
DTSTAMP:20260420T191937
CREATED:20210914T134110Z
LAST-MODIFIED:20210914T134255Z
UID:10000581-1634328000-1634331600@thinkfast.sheridancollege.ca
SUMMARY:Mobile Computing Club meeting
DESCRIPTION:The Mobile Computing Club meets every other Friday to discuss club events and activities including Coffee Chats with Alumni\, Skill Sharing sessions\, Open time for chatting with members and networking. \nJoin us this week – new members always welcome. To get the MS Teams login link\, contact us. \n 
URL:https://thinkfast.sheridancollege.ca/event/mobile-computing-club-meeting/2021-10-15/
CATEGORIES:Mobile Computing Club
ATTACH;FMTTYPE=image/png:https://thinkfast.sheridancollege.ca/wp-content/uploads/2021/09/mcc_logo-3.png
END:VEVENT
BEGIN:VEVENT
DTSTART;TZID=America/Toronto:20211001T200000
DTEND;TZID=America/Toronto:20211001T210000
DTSTAMP:20260420T191937
CREATED:20210914T134110Z
LAST-MODIFIED:20210914T134255Z
UID:10000580-1633118400-1633122000@thinkfast.sheridancollege.ca
SUMMARY:Mobile Computing Club meeting
DESCRIPTION:The Mobile Computing Club meets every other Friday to discuss club events and activities including Coffee Chats with Alumni\, Skill Sharing sessions\, Open time for chatting with members and networking. \nJoin us this week – new members always welcome. To get the MS Teams login link\, contact us. \n 
URL:https://thinkfast.sheridancollege.ca/event/mobile-computing-club-meeting/2021-10-01/
CATEGORIES:Mobile Computing Club
ATTACH;FMTTYPE=image/png:https://thinkfast.sheridancollege.ca/wp-content/uploads/2021/09/mcc_logo-3.png
END:VEVENT
BEGIN:VEVENT
DTSTART;TZID=America/Toronto:20210917T200000
DTEND;TZID=America/Toronto:20210917T210000
DTSTAMP:20260420T191937
CREATED:20210914T134110Z
LAST-MODIFIED:20210914T134255Z
UID:10000579-1631908800-1631912400@thinkfast.sheridancollege.ca
SUMMARY:Mobile Computing Club meeting
DESCRIPTION:The Mobile Computing Club meets every other Friday to discuss club events and activities including Coffee Chats with Alumni\, Skill Sharing sessions\, Open time for chatting with members and networking. \nJoin us this week – new members always welcome. To get the MS Teams login link\, contact us. \n 
URL:https://thinkfast.sheridancollege.ca/event/mobile-computing-club-meeting/2021-09-17/
CATEGORIES:Mobile Computing Club
ATTACH;FMTTYPE=image/png:https://thinkfast.sheridancollege.ca/wp-content/uploads/2021/09/mcc_logo-3.png
END:VEVENT
BEGIN:VEVENT
DTSTART;VALUE=DATE:20201015
DTEND;VALUE=DATE:20201016
DTSTAMP:20260420T191937
CREATED:20201006T171840Z
LAST-MODIFIED:20201006T171840Z
UID:10000526-1602720000-1602806399@thinkfast.sheridancollege.ca
SUMMARY:Finastra Hackathon
DESCRIPTION:If you’re interested in Hackathons and are up to a global innovation challenge\, this one’s for you! Finastra’s Hack to the Future is a global\, virtual Hackathon unlike any other. \nClick here to find out more. \nHack to the Future launches on October 15th and submissions will be open from October 15th to November 22nd. \nDon’t miss your chance to participate in an ‘around the clock\, around the world’ Hackathon experience. \n 
URL:https://thinkfast.sheridancollege.ca/event/finastra-hackathon/
CATEGORIES:Code Beyond Club,Coding Syndicate of Sheridan,Information Security Sessions,Mobile Computing Club,WISE Club
END:VEVENT
BEGIN:VEVENT
DTSTART;TZID=America/Toronto:20200917T193000
DTEND;TZID=America/Toronto:20200917T210000
DTSTAMP:20260420T191937
CREATED:20200915T155339Z
LAST-MODIFIED:20200916T123237Z
UID:10000520-1600371000-1600376400@thinkfast.sheridancollege.ca
SUMMARY:Mobile Computing Club Virtual Kick Off Meeting
DESCRIPTION:Join us on Sept 17th for the Mobile Computing Club’s virtual kick off event. We’ll be discussing the student experience in the Mobile Computing Degree program and kicking off what promises to be the first year of its kind! Join us on Microsoft Teams. \nFor more information\, check your email from Professor Stoica. \nWe hope to see you there (virtually)!
URL:https://thinkfast.sheridancollege.ca/event/mobile-computing-club-virtual-kick-off-meeting/
CATEGORIES:Mobile Computing Club
ATTACH;FMTTYPE=image/jpeg:https://thinkfast.sheridancollege.ca/wp-content/uploads/2020/09/2020-smcc-kickoff-event-poster.jpg
END:VEVENT
BEGIN:VEVENT
DTSTART;TZID=America/Toronto:20191120T180000
DTEND;TZID=America/Toronto:20191120T200000
DTSTAMP:20260420T191937
CREATED:20191119T143333Z
LAST-MODIFIED:20191119T143646Z
UID:10000501-1574272800-1574280000@thinkfast.sheridancollege.ca
SUMMARY:Mobile Computing Club Launch\, B301
DESCRIPTION:
URL:https://thinkfast.sheridancollege.ca/event/mobile-computing-club-launch/
LOCATION:Trafalgar campus\, Room B301
CATEGORIES:Mobile Computing Club
END:VEVENT
END:VCALENDAR