BEGIN:VCALENDAR
VERSION:2.0
PRODID:-//ThinkFAST - ECPv6.15.17.1//NONSGML v1.0//EN
CALSCALE:GREGORIAN
METHOD:PUBLISH
X-ORIGINAL-URL:https://thinkfast.sheridancollege.ca
X-WR-CALDESC:Events for ThinkFAST
REFRESH-INTERVAL;VALUE=DURATION:PT1H
X-Robots-Tag:noindex
X-PUBLISHED-TTL:PT1H
BEGIN:VTIMEZONE
TZID:America/Toronto
BEGIN:DAYLIGHT
TZOFFSETFROM:-0500
TZOFFSETTO:-0400
TZNAME:EDT
DTSTART:20180311T070000
END:DAYLIGHT
BEGIN:STANDARD
TZOFFSETFROM:-0400
TZOFFSETTO:-0500
TZNAME:EST
DTSTART:20181104T060000
END:STANDARD
BEGIN:DAYLIGHT
TZOFFSETFROM:-0500
TZOFFSETTO:-0400
TZNAME:EDT
DTSTART:20190310T070000
END:DAYLIGHT
BEGIN:STANDARD
TZOFFSETFROM:-0400
TZOFFSETTO:-0500
TZNAME:EST
DTSTART:20191103T060000
END:STANDARD
BEGIN:DAYLIGHT
TZOFFSETFROM:-0500
TZOFFSETTO:-0400
TZNAME:EDT
DTSTART:20200308T070000
END:DAYLIGHT
BEGIN:STANDARD
TZOFFSETFROM:-0400
TZOFFSETTO:-0500
TZNAME:EST
DTSTART:20201101T060000
END:STANDARD
BEGIN:DAYLIGHT
TZOFFSETFROM:-0500
TZOFFSETTO:-0400
TZNAME:EDT
DTSTART:20210314T070000
END:DAYLIGHT
BEGIN:STANDARD
TZOFFSETFROM:-0400
TZOFFSETTO:-0500
TZNAME:EST
DTSTART:20211107T060000
END:STANDARD
BEGIN:DAYLIGHT
TZOFFSETFROM:-0500
TZOFFSETTO:-0400
TZNAME:EDT
DTSTART:20220313T070000
END:DAYLIGHT
BEGIN:STANDARD
TZOFFSETFROM:-0400
TZOFFSETTO:-0500
TZNAME:EST
DTSTART:20221106T060000
END:STANDARD
END:VTIMEZONE
BEGIN:VTIMEZONE
TZID:UTC
BEGIN:STANDARD
TZOFFSETFROM:+0000
TZOFFSETTO:+0000
TZNAME:UTC
DTSTART:20180101T000000
END:STANDARD
END:VTIMEZONE
BEGIN:VEVENT
DTSTART;TZID=America/Toronto:20210128T190000
DTEND;TZID=America/Toronto:20210128T210000
DTSTAMP:20260420T231653
CREATED:20210126T153428Z
LAST-MODIFIED:20210126T153428Z
UID:10000543-1611860400-1611867600@thinkfast.sheridancollege.ca
SUMMARY:ISSessions
DESCRIPTION:ISSessions is back and the team has been hard at work planning events for the next few months. \nJoin us this Thursday (January 28th) at 7 PM EST for this special meeting with guest speaker\, Brice Self. \nAgenda:\n19:00 – Kickoff – Kurt & Jamie  🎙 📢\n19:10 – News Roundup – Cem & Yusef   🗞\n19:30 – Building Your Portfolio Site –  Kurt  👨‍💻 😎\n19:55 – Break   🛌\n20:00 – Breaking into Banks Like a Boss – Brice Self   🤛 🔐 \nWe’ll kick off the meeting with important announcements by Kurt & Jamie followed by the latest in infosec news by Cem & Yusef. After the news\, Kurt will present a segment for our co-op students on making a portfolio site to help spice up your resume. And finally\, our special guest speaker\, Brice Self\, will give a presentation about physical security; Physical Assessments Lead at Rendition InfoSec. \nBrice Self\nBrice Self is a Cyber Security professional\, specializing in physical security\, social engineering\, wireless (802.11) security\, incident response\, malware analysis\, and digital forensics. Prior to joining Rendition Infosec\, Brice served in the U.S. Navy where he acquired his network security specialties\, extensive tactical training\, and tradecraft. Brice has also shared his cyber security experience speaking at numerous conferences and continues to share his experience with his local Cyber Security community. \nBreaking into Banks Like a Boss\nIs your money safe? Are the movies real? Can you dodge lasers\, sneak through vents\, and dress in disguise to steal millions of dollars? Yes. Yes\, you can. Brice has had countless experiences breaking into high-security buildings\, facilities\, and banks across the United States.He wants to show YOU how he broke into them with billions of dollars on the line through social engineering and bypassing physical security. \nWe hope to see many of you at this 2021 ISSessions kick off!
URL:https://thinkfast.sheridancollege.ca/event/issessions/
CATEGORIES:Information Security Sessions
ATTACH;FMTTYPE=image/jpeg:https://thinkfast.sheridancollege.ca/wp-content/uploads/2020/09/iss.jpg
END:VEVENT
BEGIN:VEVENT
DTSTART;TZID=America/Toronto:20201205T130000
DTEND;TZID=America/Toronto:20201205T160000
DTSTAMP:20260420T231653
CREATED:20201130T161342Z
LAST-MODIFIED:20201130T161342Z
UID:10000541-1607173200-1607184000@thinkfast.sheridancollege.ca
SUMMARY:ISSessions Pandas Workshop
DESCRIPTION:Join us for our Pandas workshop presented by ISSessions VP\, Louai Abboud\n________________________________________\nDate: December 5th\, 2020\nTime: 1:00-4:00 PM\nLocation: Online (Google Meet or Zoom)\nYears: 1-4 (ALL YEARS WELCOME) \nIn security\, we deal with tons of data on a daily basis: logs\, ticket data\, user behaviour analytics\, etc. Pandas is crucial in analyzing that data quickly and automating security processes for you. Alongside that\, Pandas is a great python library for anyone interested in Machine Learning; note that this is not an ML workshop\, but Pandas is used in ML. \nThis is an introductory workshop\, but you will quickly pick-up the concepts and learn a lot regardless of your year. You DO NOT need to know python for this workshop\, so don’t let that stop you from signing up. \nRequirements: Windows machine with VMWare installed. (MacOS or Linux allowed – use at your own risk) \nSign-up today
URL:https://thinkfast.sheridancollege.ca/event/issessions-pandas-workshop/
CATEGORIES:Information Security Sessions
END:VEVENT
BEGIN:VEVENT
DTSTART;TZID=America/Toronto:20201029T190000
DTEND;TZID=America/Toronto:20201029T210000
DTSTAMP:20260420T231653
CREATED:20201026T173715Z
LAST-MODIFIED:20201026T181722Z
UID:10000536-1603998000-1604005200@thinkfast.sheridancollege.ca
SUMMARY:ISSessions Meet Up
DESCRIPTION:Scehdule:\n19:00 – Kickoff – Kurt\n19:10 – News Roundup – Adam & Yousef\n19:30 – Home Server Shenanigans – Kurt – Nick\n19:45 – Break\n20:00 – The Wonderful World of Information Security – John Simpson
URL:https://thinkfast.sheridancollege.ca/event/issessions-meet-up-3/
CATEGORIES:Information Security Sessions
ATTACH;FMTTYPE=image/png:https://thinkfast.sheridancollege.ca/wp-content/uploads/2020/10/iss-oct29-2020-1.png
END:VEVENT
BEGIN:VEVENT
DTSTART;VALUE=DATE:20201015
DTEND;VALUE=DATE:20201016
DTSTAMP:20260420T231653
CREATED:20201006T171840Z
LAST-MODIFIED:20201006T171840Z
UID:10000526-1602720000-1602806399@thinkfast.sheridancollege.ca
SUMMARY:Finastra Hackathon
DESCRIPTION:If you’re interested in Hackathons and are up to a global innovation challenge\, this one’s for you! Finastra’s Hack to the Future is a global\, virtual Hackathon unlike any other. \nClick here to find out more. \nHack to the Future launches on October 15th and submissions will be open from October 15th to November 22nd. \nDon’t miss your chance to participate in an ‘around the clock\, around the world’ Hackathon experience. \n 
URL:https://thinkfast.sheridancollege.ca/event/finastra-hackathon/
CATEGORIES:Code Beyond Club,Coding Syndicate of Sheridan,Information Security Sessions,Mobile Computing Club,WISE Club
END:VEVENT
BEGIN:VEVENT
DTSTART;TZID=America/Toronto:20201008T190000
DTEND;TZID=America/Toronto:20201008T210000
DTSTAMP:20260420T231653
CREATED:20201006T165828Z
LAST-MODIFIED:20201006T165828Z
UID:10000525-1602183600-1602190800@thinkfast.sheridancollege.ca
SUMMARY:ISSessions Meet Up
DESCRIPTION:Join us on Thursday\, October 8th\, from 7:00 PM to 9:00 for our next ISSessions meet up \nAgenda: \n19:00 – Kickoff – Kurt\n19:10 – News Roundup – Nash & Adam\n19:30 – Rick’s Repo Rundown – Nick\n19:45 – Break\n20:00 – An Introduction to OSX Exploitation – Lee Kegan \nWe started on a great note with a very successful Panel and the Beginner’s BASH workshop and we have no plans to slow down now! \nKurt will kick-off the meeting with some great tools that Sheridan provides to students. News Roundup with Nash & Adam will be followed by Rick’s Repo Rundown with Nick. After a short break\, Lee Kagan will be giving us an awesome presentation on OSX (Apple’s OS) Exploitation. I know I’m excited about this talk! \nAn Introduction to OSX Exploitation  \nAs more Apple products become integrated into the modern environment\, OSX is finally getting the offensive attention it deserves. As a result\, it’s becoming critical for attackers and defenders to understand the attack surface as well as the unique challenges this OSX poses. \nLee will walk through the basics of attacking OSX. What are Plists? Are DyLibs meaningful? Does ActiveDirectory work with Macs? What the heck is JamF? \nLee will cover all of this and more in this introduction to OSX exploitation. \nA little bit about Lee\n \nLee Kagan started in the IT and security world in 2010 in Toronto\, Canada. When Lee isn’t tip-toeing through enterprise’s Active Directory environments he’s running the DerbyCon Toronto Community Chapter\, the Canadian Collegiate Cyber Exercise (C3X)\, and as an instructor teaching Canadian offensive and defensive professionals ways to up their game. Lee has spoken at multiple events and conferences such as BSides and SecTor. In his spare time\, Lee is an executive chef at a restaurant in his mind. \nLee specializes in offensive RnD with a focus on ActiveDirectory and defensive measures evasion techniques\, malware development in C#/C++\, C2 design and management. \nLee is the practice lead for Adversarial Collaboration (purple team) at Lares. Prior to Lares\, Lee was the Sr. offensive RnD specialist at Symantec. \n 
URL:https://thinkfast.sheridancollege.ca/event/issessions-meet-up-2/
CATEGORIES:Information Security Sessions
END:VEVENT
BEGIN:VEVENT
DTSTART;TZID=America/Toronto:20200924T190000
DTEND;TZID=America/Toronto:20200924T210000
DTSTAMP:20260420T231653
CREATED:20200916T142500Z
LAST-MODIFIED:20200921T164506Z
UID:10000521-1600974000-1600981200@thinkfast.sheridancollege.ca
SUMMARY:ISSessions Meet Up
DESCRIPTION:Join us on September 24 @ 7 PM for our next ISSessions meeting. It’s a night with a star-studded line-up so don’t miss out. \nWe have five tremendous InfoSec professionals who are ready\, willing and able to share their InfoSec/Cyber Security knowledge with you.  As an open discussion forum\, you will have the opportunity to submit your questions in advance (complete the online question form) or ask your questions\, in-person\, on Thursday night! \nOur incredible list of panelists includes many faces you may already know in addition to some new ones\, too. Don’t miss this meeting! \n\nAlana Staszczyszyn is a practicing security consultant. Her past and present work has focused on penetration testing and security governance in the public health sector. She is also very interested in various political\, socioeconomic\, and cultural aspects of cybersecurity\, particularly on how the intersections of security and those domains have given rise to new cyber-threat landscape risks. \nJohn Simpson graduated from the Sheridan Information Systems Security program in 2015 and is currently a vulnerability researcher and team lead with Trend Micro in Toronto. He started his career with a coop position at Deloitte and stayed after graduation\, working in Security Operations Center engineering and vulnerability assessment/penetration testing roles. In his current position\, John reverse engineers vulnerabilities to write proof-of-concept exploits and devise network detection strategies to catch exploitation attempts. During the last 4.5 years in his current role\, he has discovered several new vulnerabilities\, authored blog posts for Trend Micro and Zero Day Initiative\, and spoken at several conferences. \nNick Johnston is the Program Coordinator and professor of Sheridan’s Honours Bachelor of Applied Information Sciences (Information Systems Security) degree program. Prior to his academia role\, Nick led an incident response team\, worked as a computer forensic investigator\, programmer\, penetration tester\, secure code auditor\, and general InfoSec consultant. You can find Nick on Twitter at @nickinfosec where he’ll either be tweeting cringe-worthy cyberpuns or electronics/maker questions. \nLee Kagan started in IT and security in 2010 in Toronto\, Canada. When Lee isn’t tip-toeing through enterprise’s Active Directory environments\, he’s running the DerbyCon Toronto Community Chapter\, the Canadian Collegiate Cyber Exercise (C3X)\, and as an instructor teaching Canadian offensive and defensive professionals ways to up their game. Lee has spoken at multiple events and conferences such as BSides and SecTor. In his spare time\, Lee is an executive chef at a restaurant (in his mind). \nOlivier Lemelin is currently a Threat Hunter at a major Canadain Telco and has been a part of the security industry for the last five years. He believes that the modern web browser is too complex and could be replaced by a well-behaved terminal environment and a bunch of Gopher servers. In his free time\, he enjoys binary exploitation\, Emacs\, LISP programming\, and gardening\, all from the comfort of his $HOME.
URL:https://thinkfast.sheridancollege.ca/event/issessions-meet-up/2020-09-24/
CATEGORIES:Information Security Sessions
ATTACH;FMTTYPE=image/jpeg:https://thinkfast.sheridancollege.ca/wp-content/uploads/2020/09/iss.jpg
END:VEVENT
BEGIN:VEVENT
DTSTART;TZID=UTC:20200327T190000
DTEND;TZID=UTC:20200327T210000
DTSTAMP:20260420T231653
CREATED:20190517T215410Z
LAST-MODIFIED:20200326T131926Z
UID:10000479-1585335600-1585342800@thinkfast.sheridancollege.ca
SUMMARY:ISSessions Meet Up - VIRTUAL ATTENDANCE
DESCRIPTION:Join ISSessions for a biweekly round-up \nThis week’s ISSessions meetup details: \nLocation: Your house! (virtual meeting via Discord + Youtube)\nAgenda\no 19:00 – Announcements with Louai\no 19:10 – News Roundup with Nick and Adam\no 19:40 – Project Den with Costa Kavidas\no 20:15 – Kahoot Infosec Trivia and Jackbox Party with Pumpkin and Louai\no 20:30 – Wrap and refreshments (across the living room in the kitchen) \nWe have ISSessions this Friday! We’ll have a news roundup with Nick and Adam\, a Project Den presentation with Costa Kavidas (@CK)\, then we’ll end the night with a fun Kahoot InfoSec Trivia + Jackbox Party! This meeting will be streamed on Youtube! Then we’ll do the InfoSec Trivia + Jackbox Party using Discord 😀 \nCosta Kavidas is an IFS student at Seneca College\, interested in Threat Hunting\, Digital Forensics & Incident Response\, as well as Security Engineering. When it comes to learning different technical skills and experimenting with new technologies nothing is more valuable than a home lab. In this talk Costa will describe what a home lab is\, what you need to get started\, and some example use cases for your homelab. \nSee you at another jovial ISSessions!
URL:https://thinkfast.sheridancollege.ca/event/may-1-5-event-2020-03-27/2020-03-27/
LOCATION:Trafalgar campus\, Room B301
CATEGORIES:Information Security Sessions
ATTACH;FMTTYPE=image/jpeg:https://thinkfast.sheridancollege.ca/wp-content/uploads/2019/07/iss.jpg
END:VEVENT
BEGIN:VEVENT
DTSTART;TZID=UTC:20200320T190000
DTEND;TZID=UTC:20200320T210000
DTSTAMP:20260420T231653
CREATED:20190517T215410Z
LAST-MODIFIED:20200326T131048Z
UID:10000478-1584730800-1584738000@thinkfast.sheridancollege.ca
SUMMARY:ISSessions Meet Up
DESCRIPTION:Join ISSessions for a biweekly round-up \nLocation: Room J102\, Sheridan Trafalgar Campus\, Oakville \nAgenda\n19:00 – Announcements with Louai\n19:05 – News Roundup with Nick\n19:25 – Project Den: OWASP IoT Top 10 with Nicholas Johnston\n19:55 – Guest Speaker : Alana Staszczyszyn on War in the Fifth Dimension: An Overview of the Weaponization of Information\n20:25 – Wrap and refreshments (across the street at the pub)
URL:https://thinkfast.sheridancollege.ca/event/may-1-5-event/2020-03-20/
LOCATION:Trafalgar campus\, Room B301
CATEGORIES:Information Security Sessions
ATTACH;FMTTYPE=image/jpeg:https://thinkfast.sheridancollege.ca/wp-content/uploads/2019/07/iss.jpg
END:VEVENT
BEGIN:VEVENT
DTSTART;VALUE=DATE:20200314
DTEND;VALUE=DATE:20200315
DTSTAMP:20260420T231653
CREATED:20200302T175715Z
LAST-MODIFIED:20200302T175715Z
UID:10000519-1584144000-1584230399@thinkfast.sheridancollege.ca
SUMMARY:Capture The Flag!
DESCRIPTION:See NEWS article on ThinkFAST for the details.
URL:https://thinkfast.sheridancollege.ca/event/capture-the-flag/
LOCATION:Trend Micro\, 1 Snooker Street\, Toronto\, Ontario\, M6K 1G1Thi\, Canada
CATEGORIES:Information Security Sessions
END:VEVENT
BEGIN:VEVENT
DTSTART;TZID=UTC:20200306T190000
DTEND;TZID=UTC:20200306T210000
DTSTAMP:20260420T231653
CREATED:20190517T215410Z
LAST-MODIFIED:20200326T131048Z
UID:10000477-1583521200-1583528400@thinkfast.sheridancollege.ca
SUMMARY:ISSessions Meet Up
DESCRIPTION:Join ISSessions for a biweekly round-up \nLocation: Room J102\, Sheridan Trafalgar Campus\, Oakville \nAgenda\n19:00 – Announcements with Louai\n19:05 – News Roundup with Nick\n19:25 – Project Den: OWASP IoT Top 10 with Nicholas Johnston\n19:55 – Guest Speaker : Alana Staszczyszyn on War in the Fifth Dimension: An Overview of the Weaponization of Information\n20:25 – Wrap and refreshments (across the street at the pub)
URL:https://thinkfast.sheridancollege.ca/event/may-1-5-event/2020-03-06/
LOCATION:Trafalgar campus\, Room B301
CATEGORIES:Information Security Sessions
ATTACH;FMTTYPE=image/jpeg:https://thinkfast.sheridancollege.ca/wp-content/uploads/2019/07/iss.jpg
END:VEVENT
BEGIN:VEVENT
DTSTART;TZID=UTC:20200221T190000
DTEND;TZID=UTC:20200221T210000
DTSTAMP:20260420T231653
CREATED:20190517T215410Z
LAST-MODIFIED:20200326T131048Z
UID:10000476-1582311600-1582318800@thinkfast.sheridancollege.ca
SUMMARY:ISSessions Meet Up
DESCRIPTION:Join ISSessions for a biweekly round-up \nLocation: Room J102\, Sheridan Trafalgar Campus\, Oakville \nAgenda\n19:00 – Announcements with Louai\n19:05 – News Roundup with Nick\n19:25 – Project Den: OWASP IoT Top 10 with Nicholas Johnston\n19:55 – Guest Speaker : Alana Staszczyszyn on War in the Fifth Dimension: An Overview of the Weaponization of Information\n20:25 – Wrap and refreshments (across the street at the pub)
URL:https://thinkfast.sheridancollege.ca/event/may-1-5-event/2020-02-21/
LOCATION:Trafalgar campus\, Room B301
CATEGORIES:Information Security Sessions
ATTACH;FMTTYPE=image/jpeg:https://thinkfast.sheridancollege.ca/wp-content/uploads/2019/07/iss.jpg
END:VEVENT
BEGIN:VEVENT
DTSTART;TZID=America/Toronto:20200208T090000
DTEND;TZID=America/Toronto:20200208T120000
DTSTAMP:20260420T231653
CREATED:20200127T154202Z
LAST-MODIFIED:20200127T155047Z
UID:10000517-1581152400-1581163200@thinkfast.sheridancollege.ca
SUMMARY:ISS WORKSHOP! beginner & advance tracks. See NEWS tab for details.
DESCRIPTION:WORKSHOP!\nBeginner & Advance Tracks \nSee NEWS tab for details
URL:https://thinkfast.sheridancollege.ca/event/2405/
LOCATION:Trafalgar campus\, Room B301
CATEGORIES:Information Security Sessions
END:VEVENT
BEGIN:VEVENT
DTSTART;TZID=UTC:20200207T190000
DTEND;TZID=UTC:20200207T210000
DTSTAMP:20260420T231653
CREATED:20190517T215410Z
LAST-MODIFIED:20200326T131048Z
UID:10000475-1581102000-1581109200@thinkfast.sheridancollege.ca
SUMMARY:ISSessions Meet Up
DESCRIPTION:Join ISSessions for a biweekly round-up \nLocation: Room J102\, Sheridan Trafalgar Campus\, Oakville \nAgenda\n19:00 – Announcements with Louai\n19:05 – News Roundup with Nick\n19:25 – Project Den: OWASP IoT Top 10 with Nicholas Johnston\n19:55 – Guest Speaker : Alana Staszczyszyn on War in the Fifth Dimension: An Overview of the Weaponization of Information\n20:25 – Wrap and refreshments (across the street at the pub)
URL:https://thinkfast.sheridancollege.ca/event/may-1-5-event/2020-02-07/
LOCATION:Trafalgar campus\, Room B301
CATEGORIES:Information Security Sessions
ATTACH;FMTTYPE=image/jpeg:https://thinkfast.sheridancollege.ca/wp-content/uploads/2019/07/iss.jpg
END:VEVENT
BEGIN:VEVENT
DTSTART;TZID=UTC:20200124T190000
DTEND;TZID=UTC:20200124T210000
DTSTAMP:20260420T231653
CREATED:20190517T215410Z
LAST-MODIFIED:20200326T131048Z
UID:10000474-1579892400-1579899600@thinkfast.sheridancollege.ca
SUMMARY:ISSessions Meet Up
DESCRIPTION:Join ISSessions for a biweekly round-up \nLocation: Room J102\, Sheridan Trafalgar Campus\, Oakville \nAgenda\n19:00 – Announcements with Louai\n19:05 – News Roundup with Nick\n19:25 – Project Den: OWASP IoT Top 10 with Nicholas Johnston\n19:55 – Guest Speaker : Alana Staszczyszyn on War in the Fifth Dimension: An Overview of the Weaponization of Information\n20:25 – Wrap and refreshments (across the street at the pub)
URL:https://thinkfast.sheridancollege.ca/event/may-1-5-event/2020-01-24/
LOCATION:Trafalgar campus\, Room B301
CATEGORIES:Information Security Sessions
ATTACH;FMTTYPE=image/jpeg:https://thinkfast.sheridancollege.ca/wp-content/uploads/2019/07/iss.jpg
END:VEVENT
BEGIN:VEVENT
DTSTART;TZID=UTC:20200110T190000
DTEND;TZID=UTC:20200110T210000
DTSTAMP:20260420T231653
CREATED:20190517T215410Z
LAST-MODIFIED:20200326T131048Z
UID:10000473-1578682800-1578690000@thinkfast.sheridancollege.ca
SUMMARY:ISSessions Meet Up
DESCRIPTION:Join ISSessions for a biweekly round-up \nLocation: Room J102\, Sheridan Trafalgar Campus\, Oakville \nAgenda\n19:00 – Announcements with Louai\n19:05 – News Roundup with Nick\n19:25 – Project Den: OWASP IoT Top 10 with Nicholas Johnston\n19:55 – Guest Speaker : Alana Staszczyszyn on War in the Fifth Dimension: An Overview of the Weaponization of Information\n20:25 – Wrap and refreshments (across the street at the pub)
URL:https://thinkfast.sheridancollege.ca/event/may-1-5-event/2020-01-10/
LOCATION:Trafalgar campus\, Room B301
CATEGORIES:Information Security Sessions
ATTACH;FMTTYPE=image/jpeg:https://thinkfast.sheridancollege.ca/wp-content/uploads/2019/07/iss.jpg
END:VEVENT
BEGIN:VEVENT
DTSTART;TZID=UTC:20191227T190000
DTEND;TZID=UTC:20191227T210000
DTSTAMP:20260420T231653
CREATED:20190517T215410Z
LAST-MODIFIED:20200326T131048Z
UID:10000472-1577473200-1577480400@thinkfast.sheridancollege.ca
SUMMARY:ISSessions Meet Up
DESCRIPTION:Join ISSessions for a biweekly round-up \nLocation: Room J102\, Sheridan Trafalgar Campus\, Oakville \nAgenda\n19:00 – Announcements with Louai\n19:05 – News Roundup with Nick\n19:25 – Project Den: OWASP IoT Top 10 with Nicholas Johnston\n19:55 – Guest Speaker : Alana Staszczyszyn on War in the Fifth Dimension: An Overview of the Weaponization of Information\n20:25 – Wrap and refreshments (across the street at the pub)
URL:https://thinkfast.sheridancollege.ca/event/may-1-5-event/2019-12-27/
LOCATION:Trafalgar campus\, Room B301
CATEGORIES:Information Security Sessions
ATTACH;FMTTYPE=image/jpeg:https://thinkfast.sheridancollege.ca/wp-content/uploads/2019/07/iss.jpg
END:VEVENT
BEGIN:VEVENT
DTSTART;TZID=UTC:20191213T190000
DTEND;TZID=UTC:20191213T210000
DTSTAMP:20260420T231654
CREATED:20190517T215410Z
LAST-MODIFIED:20200326T131048Z
UID:10000471-1576263600-1576270800@thinkfast.sheridancollege.ca
SUMMARY:ISSessions Meet Up
DESCRIPTION:Join ISSessions for a biweekly round-up \nLocation: Room J102\, Sheridan Trafalgar Campus\, Oakville \nAgenda\n19:00 – Announcements with Louai\n19:05 – News Roundup with Nick\n19:25 – Project Den: OWASP IoT Top 10 with Nicholas Johnston\n19:55 – Guest Speaker : Alana Staszczyszyn on War in the Fifth Dimension: An Overview of the Weaponization of Information\n20:25 – Wrap and refreshments (across the street at the pub)
URL:https://thinkfast.sheridancollege.ca/event/may-1-5-event/2019-12-13/
LOCATION:Trafalgar campus\, Room B301
CATEGORIES:Information Security Sessions
ATTACH;FMTTYPE=image/jpeg:https://thinkfast.sheridancollege.ca/wp-content/uploads/2019/07/iss.jpg
END:VEVENT
BEGIN:VEVENT
DTSTART;TZID=UTC:20191129T190000
DTEND;TZID=UTC:20191129T210000
DTSTAMP:20260420T231654
CREATED:20190517T215410Z
LAST-MODIFIED:20200326T131048Z
UID:10000470-1575054000-1575061200@thinkfast.sheridancollege.ca
SUMMARY:ISSessions Meet Up
DESCRIPTION:Join ISSessions for a biweekly round-up \nLocation: Room J102\, Sheridan Trafalgar Campus\, Oakville \nAgenda\n19:00 – Announcements with Louai\n19:05 – News Roundup with Nick\n19:25 – Project Den: OWASP IoT Top 10 with Nicholas Johnston\n19:55 – Guest Speaker : Alana Staszczyszyn on War in the Fifth Dimension: An Overview of the Weaponization of Information\n20:25 – Wrap and refreshments (across the street at the pub)
URL:https://thinkfast.sheridancollege.ca/event/may-1-5-event/2019-11-29/
LOCATION:Trafalgar campus\, Room B301
CATEGORIES:Information Security Sessions
ATTACH;FMTTYPE=image/jpeg:https://thinkfast.sheridancollege.ca/wp-content/uploads/2019/07/iss.jpg
END:VEVENT
BEGIN:VEVENT
DTSTART;TZID=America/Toronto:20191123T093000
DTEND;TZID=America/Toronto:20191123T173000
DTSTAMP:20260420T231654
CREATED:20191118T171220Z
LAST-MODIFIED:20191118T171452Z
UID:10000500-1574501400-1574530200@thinkfast.sheridancollege.ca
SUMMARY:Intro to Red Teaming\, J102\, TRA
DESCRIPTION:
URL:https://thinkfast.sheridancollege.ca/event/intro-to-red-teaming/
LOCATION:Rm J102\, Trafalgar\, 1430 Trafalgar Rd\, Oakville\, Ontario\, L6H 2L1\, Canada
CATEGORIES:Information Security Sessions
END:VEVENT
BEGIN:VEVENT
DTSTART;TZID=UTC:20191115T190000
DTEND;TZID=UTC:20191115T210000
DTSTAMP:20260420T231654
CREATED:20190517T215410Z
LAST-MODIFIED:20200326T131048Z
UID:10000469-1573844400-1573851600@thinkfast.sheridancollege.ca
SUMMARY:ISSessions Meet Up
DESCRIPTION:Join ISSessions for a biweekly round-up \nLocation: Room J102\, Sheridan Trafalgar Campus\, Oakville \nAgenda\n19:00 – Announcements with Louai\n19:05 – News Roundup with Nick\n19:25 – Project Den: OWASP IoT Top 10 with Nicholas Johnston\n19:55 – Guest Speaker : Alana Staszczyszyn on War in the Fifth Dimension: An Overview of the Weaponization of Information\n20:25 – Wrap and refreshments (across the street at the pub)
URL:https://thinkfast.sheridancollege.ca/event/may-1-5-event/2019-11-15/
LOCATION:Trafalgar campus\, Room B301
CATEGORIES:Information Security Sessions
ATTACH;FMTTYPE=image/jpeg:https://thinkfast.sheridancollege.ca/wp-content/uploads/2019/07/iss.jpg
END:VEVENT
BEGIN:VEVENT
DTSTART;TZID=UTC:20191101T190000
DTEND;TZID=UTC:20191101T210000
DTSTAMP:20260420T231654
CREATED:20190517T215410Z
LAST-MODIFIED:20200326T131048Z
UID:10000468-1572634800-1572642000@thinkfast.sheridancollege.ca
SUMMARY:ISSessions Meet Up
DESCRIPTION:Join ISSessions for a biweekly round-up \nLocation: Room J102\, Sheridan Trafalgar Campus\, Oakville \nAgenda\n19:00 – Announcements with Louai\n19:05 – News Roundup with Nick\n19:25 – Project Den: OWASP IoT Top 10 with Nicholas Johnston\n19:55 – Guest Speaker : Alana Staszczyszyn on War in the Fifth Dimension: An Overview of the Weaponization of Information\n20:25 – Wrap and refreshments (across the street at the pub)
URL:https://thinkfast.sheridancollege.ca/event/may-1-5-event/2019-11-01/
LOCATION:Trafalgar campus\, Room B301
CATEGORIES:Information Security Sessions
ATTACH;FMTTYPE=image/jpeg:https://thinkfast.sheridancollege.ca/wp-content/uploads/2019/07/iss.jpg
END:VEVENT
BEGIN:VEVENT
DTSTART;TZID=UTC:20191018T190000
DTEND;TZID=UTC:20191018T210000
DTSTAMP:20260420T231654
CREATED:20190517T215410Z
LAST-MODIFIED:20200326T131048Z
UID:10000467-1571425200-1571432400@thinkfast.sheridancollege.ca
SUMMARY:ISSessions Meet Up
DESCRIPTION:Join ISSessions for a biweekly round-up \nLocation: Room J102\, Sheridan Trafalgar Campus\, Oakville \nAgenda\n19:00 – Announcements with Louai\n19:05 – News Roundup with Nick\n19:25 – Project Den: OWASP IoT Top 10 with Nicholas Johnston\n19:55 – Guest Speaker : Alana Staszczyszyn on War in the Fifth Dimension: An Overview of the Weaponization of Information\n20:25 – Wrap and refreshments (across the street at the pub)
URL:https://thinkfast.sheridancollege.ca/event/may-1-5-event/2019-10-18/
LOCATION:Trafalgar campus\, Room B301
CATEGORIES:Information Security Sessions
ATTACH;FMTTYPE=image/jpeg:https://thinkfast.sheridancollege.ca/wp-content/uploads/2019/07/iss.jpg
END:VEVENT
BEGIN:VEVENT
DTSTART;VALUE=DATE:20191007
DTEND;VALUE=DATE:20191011
DTSTAMP:20260420T231654
CREATED:20190925T180520Z
LAST-MODIFIED:20191003T153337Z
UID:10000481-1570406400-1570751999@thinkfast.sheridancollege.ca
SUMMARY:SecTor Security Education Conference
DESCRIPTION:SecTor 2019 is coming to Toronto October 7-10. We’re pleased to announce that Sheridan’s own Honours Bachelor of Applied Information Sciences (Information Systems Security) Program Coordinator\, Nick Johnston\, is slated to sit on the FAIL Panel on October 9th from 1:30 – 2:30 pm. \nTaking place at the Metro Toronto Convention Centre’s South Building in downtown Toronto\, SecTor has keynote speakers from the most respected and trusted IT industry’s experts. SecTor is a must attend event for every IT Professional.
URL:https://thinkfast.sheridancollege.ca/event/sector-security-education-conference/
LOCATION:Metro Toronto Convention Centre South Building\, Toronto\, ON
CATEGORIES:Information Security Sessions
END:VEVENT
BEGIN:VEVENT
DTSTART;TZID=UTC:20191004T190000
DTEND;TZID=UTC:20191004T210000
DTSTAMP:20260420T231654
CREATED:20190517T215410Z
LAST-MODIFIED:20200326T131048Z
UID:10000466-1570215600-1570222800@thinkfast.sheridancollege.ca
SUMMARY:ISSessions Meet Up
DESCRIPTION:Join ISSessions for a biweekly round-up \nLocation: Room J102\, Sheridan Trafalgar Campus\, Oakville \nAgenda\n19:00 – Announcements with Louai\n19:05 – News Roundup with Nick\n19:25 – Project Den: OWASP IoT Top 10 with Nicholas Johnston\n19:55 – Guest Speaker : Alana Staszczyszyn on War in the Fifth Dimension: An Overview of the Weaponization of Information\n20:25 – Wrap and refreshments (across the street at the pub)
URL:https://thinkfast.sheridancollege.ca/event/may-1-5-event/2019-10-04/
LOCATION:Trafalgar campus\, Room B301
CATEGORIES:Information Security Sessions
ATTACH;FMTTYPE=image/jpeg:https://thinkfast.sheridancollege.ca/wp-content/uploads/2019/07/iss.jpg
END:VEVENT
END:VCALENDAR