BEGIN:VCALENDAR
VERSION:2.0
PRODID:-//ThinkFAST - ECPv6.15.17.1//NONSGML v1.0//EN
CALSCALE:GREGORIAN
METHOD:PUBLISH
X-ORIGINAL-URL:https://thinkfast.sheridancollege.ca
X-WR-CALDESC:Events for ThinkFAST
REFRESH-INTERVAL;VALUE=DURATION:PT1H
X-Robots-Tag:noindex
X-PUBLISHED-TTL:PT1H
BEGIN:VTIMEZONE
TZID:America/Toronto
BEGIN:DAYLIGHT
TZOFFSETFROM:-0500
TZOFFSETTO:-0400
TZNAME:EDT
DTSTART:20200308T070000
END:DAYLIGHT
BEGIN:STANDARD
TZOFFSETFROM:-0400
TZOFFSETTO:-0500
TZNAME:EST
DTSTART:20201101T060000
END:STANDARD
BEGIN:DAYLIGHT
TZOFFSETFROM:-0500
TZOFFSETTO:-0400
TZNAME:EDT
DTSTART:20210314T070000
END:DAYLIGHT
BEGIN:STANDARD
TZOFFSETFROM:-0400
TZOFFSETTO:-0500
TZNAME:EST
DTSTART:20211107T060000
END:STANDARD
BEGIN:DAYLIGHT
TZOFFSETFROM:-0500
TZOFFSETTO:-0400
TZNAME:EDT
DTSTART:20220313T070000
END:DAYLIGHT
BEGIN:STANDARD
TZOFFSETFROM:-0400
TZOFFSETTO:-0500
TZNAME:EST
DTSTART:20221106T060000
END:STANDARD
END:VTIMEZONE
BEGIN:VEVENT
DTSTART;TZID=America/Toronto:20211018T190000
DTEND;TZID=America/Toronto:20211018T200000
DTSTAMP:20260420T202708
CREATED:20211012T153652Z
LAST-MODIFIED:20211012T154100Z
UID:10000609-1634583600-1634587200@thinkfast.sheridancollege.ca
SUMMARY:30 Days of Cloud
DESCRIPTION:Join the Google Developer Students Club in a huge Cloud campaign sponsored by Google Cloud. \nThe incredible 30 Days of Cloud brings experts who uncover the Google Cloud Foundational Series to students with little to no experience in cloud computing. Learn about Google Cloud Technologies\, how your data is stored and protected\, and more. This series will provide a foundation of knowledge around Cloud computing. \nSheridan is joining 15 other Universities and Colleges from the US and Canada for this 4-week Cloud Campaign. Plus\, we’re hosting the campaign kick off on Oct. 18th. \nStarting on October 18thm join us to find out more through the cloud series. Have a look at the agenda
URL:https://thinkfast.sheridancollege.ca/event/30-days-of-cloud/
CATEGORIES:Google Developer Student Club
ATTACH;FMTTYPE=image/png:https://thinkfast.sheridancollege.ca/wp-content/uploads/2021/10/cloud-series.png
END:VEVENT
BEGIN:VEVENT
DTSTART;TZID=America/Toronto:20210910T190000
DTEND;TZID=America/Toronto:20210910T200000
DTSTAMP:20260420T202708
CREATED:20210907T151106Z
LAST-MODIFIED:20210907T173223Z
UID:10000565-1631300400-1631304000@thinkfast.sheridancollege.ca
SUMMARY:Google Developer Student Club Info Session
DESCRIPTION:Join us on Friday\, September 10th at 7:00 p.m. to learn about Sheridan’s Google Developer Student Club. \nRegister today!
URL:https://thinkfast.sheridancollege.ca/event/google-developer-student-club-info-session/
CATEGORIES:Google Developer Student Club
END:VEVENT
END:VCALENDAR