BEGIN:VCALENDAR
VERSION:2.0
PRODID:-//ThinkFAST - ECPv6.15.17.1//NONSGML v1.0//EN
CALSCALE:GREGORIAN
METHOD:PUBLISH
X-ORIGINAL-URL:https://thinkfast.sheridancollege.ca
X-WR-CALDESC:Events for ThinkFAST
REFRESH-INTERVAL;VALUE=DURATION:PT1H
X-Robots-Tag:noindex
X-PUBLISHED-TTL:PT1H
BEGIN:VTIMEZONE
TZID:America/Toronto
BEGIN:DAYLIGHT
TZOFFSETFROM:-0500
TZOFFSETTO:-0400
TZNAME:EDT
DTSTART:20200308T070000
END:DAYLIGHT
BEGIN:STANDARD
TZOFFSETFROM:-0400
TZOFFSETTO:-0500
TZNAME:EST
DTSTART:20201101T060000
END:STANDARD
BEGIN:DAYLIGHT
TZOFFSETFROM:-0500
TZOFFSETTO:-0400
TZNAME:EDT
DTSTART:20210314T070000
END:DAYLIGHT
BEGIN:STANDARD
TZOFFSETFROM:-0400
TZOFFSETTO:-0500
TZNAME:EST
DTSTART:20211107T060000
END:STANDARD
BEGIN:DAYLIGHT
TZOFFSETFROM:-0500
TZOFFSETTO:-0400
TZNAME:EDT
DTSTART:20220313T070000
END:DAYLIGHT
BEGIN:STANDARD
TZOFFSETFROM:-0400
TZOFFSETTO:-0500
TZNAME:EST
DTSTART:20221106T060000
END:STANDARD
END:VTIMEZONE
BEGIN:VEVENT
DTSTART;TZID=America/Toronto:20211005T183000
DTEND;TZID=America/Toronto:20211005T193000
DTSTAMP:20260420T202820
CREATED:20210914T132929Z
LAST-MODIFIED:20210914T132929Z
UID:10000568-1633458600-1633462200@thinkfast.sheridancollege.ca
SUMMARY:EE Club Meeting
DESCRIPTION:The Electronic Enabling Club meets every Tuesday for webinars in such topics as SMTAi_Expo. \nConnect with us for more information.
URL:https://thinkfast.sheridancollege.ca/event/ee-club-meeting/2021-10-05/
CATEGORIES:Electronic-Enabling Club (EE Club)
ATTACH;FMTTYPE=image/jpeg:https://thinkfast.sheridancollege.ca/wp-content/uploads/2021/09/logo_final.jpg
END:VEVENT
BEGIN:VEVENT
DTSTART;TZID=America/Toronto:20210928T183000
DTEND;TZID=America/Toronto:20210928T193000
DTSTAMP:20260420T202820
CREATED:20210914T132929Z
LAST-MODIFIED:20210914T132929Z
UID:10000567-1632853800-1632857400@thinkfast.sheridancollege.ca
SUMMARY:EE Club Meeting
DESCRIPTION:The Electronic Enabling Club meets every Tuesday for webinars in such topics as SMTAi_Expo. \nConnect with us for more information.
URL:https://thinkfast.sheridancollege.ca/event/ee-club-meeting/2021-09-28/
CATEGORIES:Electronic-Enabling Club (EE Club)
ATTACH;FMTTYPE=image/jpeg:https://thinkfast.sheridancollege.ca/wp-content/uploads/2021/09/logo_final.jpg
END:VEVENT
END:VCALENDAR