BEGIN:VCALENDAR
VERSION:2.0
PRODID:-//ThinkFAST - ECPv6.15.17.1//NONSGML v1.0//EN
CALSCALE:GREGORIAN
METHOD:PUBLISH
X-ORIGINAL-URL:https://thinkfast.sheridancollege.ca
X-WR-CALDESC:Events for ThinkFAST
REFRESH-INTERVAL;VALUE=DURATION:PT1H
X-Robots-Tag:noindex
X-PUBLISHED-TTL:PT1H
BEGIN:VTIMEZONE
TZID:America/Toronto
BEGIN:DAYLIGHT
TZOFFSETFROM:-0500
TZOFFSETTO:-0400
TZNAME:EDT
DTSTART:20180311T070000
END:DAYLIGHT
BEGIN:STANDARD
TZOFFSETFROM:-0400
TZOFFSETTO:-0500
TZNAME:EST
DTSTART:20181104T060000
END:STANDARD
BEGIN:DAYLIGHT
TZOFFSETFROM:-0500
TZOFFSETTO:-0400
TZNAME:EDT
DTSTART:20190310T070000
END:DAYLIGHT
BEGIN:STANDARD
TZOFFSETFROM:-0400
TZOFFSETTO:-0500
TZNAME:EST
DTSTART:20191103T060000
END:STANDARD
BEGIN:DAYLIGHT
TZOFFSETFROM:-0500
TZOFFSETTO:-0400
TZNAME:EDT
DTSTART:20200308T070000
END:DAYLIGHT
BEGIN:STANDARD
TZOFFSETFROM:-0400
TZOFFSETTO:-0500
TZNAME:EST
DTSTART:20201101T060000
END:STANDARD
BEGIN:DAYLIGHT
TZOFFSETFROM:-0500
TZOFFSETTO:-0400
TZNAME:EDT
DTSTART:20210314T070000
END:DAYLIGHT
BEGIN:STANDARD
TZOFFSETFROM:-0400
TZOFFSETTO:-0500
TZNAME:EST
DTSTART:20211107T060000
END:STANDARD
BEGIN:DAYLIGHT
TZOFFSETFROM:-0500
TZOFFSETTO:-0400
TZNAME:EDT
DTSTART:20220313T070000
END:DAYLIGHT
BEGIN:STANDARD
TZOFFSETFROM:-0400
TZOFFSETTO:-0500
TZNAME:EST
DTSTART:20221106T060000
END:STANDARD
END:VTIMEZONE
BEGIN:VEVENT
DTSTART;TZID=America/Toronto:20211010T190000
DTEND;TZID=America/Toronto:20211010T200000
DTSTAMP:20260420T202911
CREATED:20210915T122201Z
LAST-MODIFIED:20210915T122631Z
UID:10000589-1633892400-1633896000@thinkfast.sheridancollege.ca
SUMMARY:Coding Club Weekly Meeting
DESCRIPTION:Join us (virtually) every Sunday from 7:00 – 8:00 pm to get your code on! \nOur meetings focus on discussion around technology\, project brainstorming\,  creation of short projects (Webapps using JS/frameworks) and solving algorithms and data structure problems (HackerRank/leetcode). \nIt’s a great space to meet like-minds and share information about and practice all-things-coding. \nJoin our Discord server for all club-related communications.
URL:https://thinkfast.sheridancollege.ca/event/coding-club-weekly-meeting/2021-10-10/
CATEGORIES:Coding Syndicate of Sheridan
ATTACH;FMTTYPE=image/png:https://thinkfast.sheridancollege.ca/wp-content/uploads/2021/09/css-poster-sep-2021.png
END:VEVENT
BEGIN:VEVENT
DTSTART;TZID=America/Toronto:20211003T190000
DTEND;TZID=America/Toronto:20211003T200000
DTSTAMP:20260420T202911
CREATED:20210915T122201Z
LAST-MODIFIED:20210915T122631Z
UID:10000588-1633287600-1633291200@thinkfast.sheridancollege.ca
SUMMARY:Coding Club Weekly Meeting
DESCRIPTION:Join us (virtually) every Sunday from 7:00 – 8:00 pm to get your code on! \nOur meetings focus on discussion around technology\, project brainstorming\,  creation of short projects (Webapps using JS/frameworks) and solving algorithms and data structure problems (HackerRank/leetcode). \nIt’s a great space to meet like-minds and share information about and practice all-things-coding. \nJoin our Discord server for all club-related communications.
URL:https://thinkfast.sheridancollege.ca/event/coding-club-weekly-meeting/2021-10-03/
CATEGORIES:Coding Syndicate of Sheridan
ATTACH;FMTTYPE=image/png:https://thinkfast.sheridancollege.ca/wp-content/uploads/2021/09/css-poster-sep-2021.png
END:VEVENT
BEGIN:VEVENT
DTSTART;TZID=America/Toronto:20210926T190000
DTEND;TZID=America/Toronto:20210926T200000
DTSTAMP:20260420T202911
CREATED:20210915T122201Z
LAST-MODIFIED:20210915T122631Z
UID:10000587-1632682800-1632686400@thinkfast.sheridancollege.ca
SUMMARY:Coding Club Weekly Meeting
DESCRIPTION:Join us (virtually) every Sunday from 7:00 – 8:00 pm to get your code on! \nOur meetings focus on discussion around technology\, project brainstorming\,  creation of short projects (Webapps using JS/frameworks) and solving algorithms and data structure problems (HackerRank/leetcode). \nIt’s a great space to meet like-minds and share information about and practice all-things-coding. \nJoin our Discord server for all club-related communications.
URL:https://thinkfast.sheridancollege.ca/event/coding-club-weekly-meeting/2021-09-26/
CATEGORIES:Coding Syndicate of Sheridan
ATTACH;FMTTYPE=image/png:https://thinkfast.sheridancollege.ca/wp-content/uploads/2021/09/css-poster-sep-2021.png
END:VEVENT
BEGIN:VEVENT
DTSTART;TZID=America/Toronto:20210919T190000
DTEND;TZID=America/Toronto:20210919T200000
DTSTAMP:20260420T202911
CREATED:20210915T122201Z
LAST-MODIFIED:20210915T122631Z
UID:10000586-1632078000-1632081600@thinkfast.sheridancollege.ca
SUMMARY:Coding Club Weekly Meeting
DESCRIPTION:Join us (virtually) every Sunday from 7:00 – 8:00 pm to get your code on! \nOur meetings focus on discussion around technology\, project brainstorming\,  creation of short projects (Webapps using JS/frameworks) and solving algorithms and data structure problems (HackerRank/leetcode). \nIt’s a great space to meet like-minds and share information about and practice all-things-coding. \nJoin our Discord server for all club-related communications.
URL:https://thinkfast.sheridancollege.ca/event/coding-club-weekly-meeting/2021-09-19/
CATEGORIES:Coding Syndicate of Sheridan
ATTACH;FMTTYPE=image/png:https://thinkfast.sheridancollege.ca/wp-content/uploads/2021/09/css-poster-sep-2021.png
END:VEVENT
BEGIN:VEVENT
DTSTART;TZID=America/Toronto:20210602T180000
DTEND;TZID=America/Toronto:20210602T190000
DTSTAMP:20260420T202911
CREATED:20210531T183142Z
LAST-MODIFIED:20210531T183413Z
UID:10000563-1622656800-1622660400@thinkfast.sheridancollege.ca
SUMMARY:Fireside Talk - Ask an Alumni with Kostia Alouski
DESCRIPTION:Meet Kostia Arlouski\, 2017 alumni from the Sheridan Software Development and Network Engineering program\, now working full-time at Shopify as a Frontend Developer. \nIn this event\, we’ll be learning about Kostia’s journey from a Sheridan College student to a Frontend Developer at Shopify. Kostia completed numerous internships before Shopify\, bringing lots of insight! \nREGISTER NOW \nWEDNESDAY\, JUNE 2ND\, 6:00PM-7:00PM EST \nThe event will have a live Q&A in the second half\, so you’ll be able to ask Kostia questions relating to his journey\, or tips for job searching directly. In case you’re uncomfortable asking questions in public\, you can fill in this anonymous form with your questions and Kostia will answer them\, to the best of his ability\, live. \nhttps://forms.gle/U2vjNucverRq6Duy7
URL:https://thinkfast.sheridancollege.ca/event/ask-an-alumni-kostia-alouski-fireside-qa/
CATEGORIES:Code Beyond Club,Coding Syndicate of Sheridan,WISE Club
ATTACH;FMTTYPE=image/jpeg:https://thinkfast.sheridancollege.ca/wp-content/uploads/2021/03/180908-sheridan-internation-festival-345.jpg
END:VEVENT
BEGIN:VEVENT
DTSTART;TZID=America/Toronto:20201211T190000
DTEND;TZID=America/Toronto:20201211T200000
DTSTAMP:20260420T202911
CREATED:20201020T181343Z
LAST-MODIFIED:20201102T171513Z
UID:10000535-1607713200-1607716800@thinkfast.sheridancollege.ca
SUMMARY:Coding Syndicate of Sheridan
DESCRIPTION:Join us every Friday evening from 7:00 PM to 8:00 PM to talk all things coding. \nFor more information\, please contact Club President\, Raj Rajput. \n 
URL:https://thinkfast.sheridancollege.ca/event/coding-syndicate-of-sheridan/2020-12-11/
CATEGORIES:Coding Syndicate of Sheridan
ATTACH;FMTTYPE=image/png:https://thinkfast.sheridancollege.ca/wp-content/uploads/2020/10/meeting-flyer-2020.png
END:VEVENT
BEGIN:VEVENT
DTSTART;TZID=America/Toronto:20201204T190000
DTEND;TZID=America/Toronto:20201204T200000
DTSTAMP:20260420T202911
CREATED:20201020T181343Z
LAST-MODIFIED:20201102T171513Z
UID:10000534-1607108400-1607112000@thinkfast.sheridancollege.ca
SUMMARY:Coding Syndicate of Sheridan
DESCRIPTION:Join us every Friday evening from 7:00 PM to 8:00 PM to talk all things coding. \nFor more information\, please contact Club President\, Raj Rajput. \n 
URL:https://thinkfast.sheridancollege.ca/event/coding-syndicate-of-sheridan/2020-12-04/
CATEGORIES:Coding Syndicate of Sheridan
ATTACH;FMTTYPE=image/png:https://thinkfast.sheridancollege.ca/wp-content/uploads/2020/10/meeting-flyer-2020.png
END:VEVENT
BEGIN:VEVENT
DTSTART;TZID=America/Toronto:20201127T190000
DTEND;TZID=America/Toronto:20201127T200000
DTSTAMP:20260420T202911
CREATED:20201020T181343Z
LAST-MODIFIED:20201102T171513Z
UID:10000533-1606503600-1606507200@thinkfast.sheridancollege.ca
SUMMARY:Coding Syndicate of Sheridan
DESCRIPTION:Join us every Friday evening from 7:00 PM to 8:00 PM to talk all things coding. \nFor more information\, please contact Club President\, Raj Rajput. \n 
URL:https://thinkfast.sheridancollege.ca/event/coding-syndicate-of-sheridan/2020-11-27/
CATEGORIES:Coding Syndicate of Sheridan
ATTACH;FMTTYPE=image/png:https://thinkfast.sheridancollege.ca/wp-content/uploads/2020/10/meeting-flyer-2020.png
END:VEVENT
BEGIN:VEVENT
DTSTART;TZID=America/Toronto:20201120T190000
DTEND;TZID=America/Toronto:20201120T200000
DTSTAMP:20260420T202911
CREATED:20201020T181343Z
LAST-MODIFIED:20201102T171513Z
UID:10000532-1605898800-1605902400@thinkfast.sheridancollege.ca
SUMMARY:Coding Syndicate of Sheridan
DESCRIPTION:Join us every Friday evening from 7:00 PM to 8:00 PM to talk all things coding. \nFor more information\, please contact Club President\, Raj Rajput. \n 
URL:https://thinkfast.sheridancollege.ca/event/coding-syndicate-of-sheridan/2020-11-20/
CATEGORIES:Coding Syndicate of Sheridan
ATTACH;FMTTYPE=image/png:https://thinkfast.sheridancollege.ca/wp-content/uploads/2020/10/meeting-flyer-2020.png
END:VEVENT
BEGIN:VEVENT
DTSTART;TZID=America/Toronto:20201113T190000
DTEND;TZID=America/Toronto:20201113T200000
DTSTAMP:20260420T202911
CREATED:20201020T181343Z
LAST-MODIFIED:20201102T171513Z
UID:10000531-1605294000-1605297600@thinkfast.sheridancollege.ca
SUMMARY:Coding Syndicate of Sheridan
DESCRIPTION:Join us every Friday evening from 7:00 PM to 8:00 PM to talk all things coding. \nFor more information\, please contact Club President\, Raj Rajput. \n 
URL:https://thinkfast.sheridancollege.ca/event/coding-syndicate-of-sheridan/2020-11-13/
CATEGORIES:Coding Syndicate of Sheridan
ATTACH;FMTTYPE=image/png:https://thinkfast.sheridancollege.ca/wp-content/uploads/2020/10/meeting-flyer-2020.png
END:VEVENT
BEGIN:VEVENT
DTSTART;TZID=America/Toronto:20201106T190000
DTEND;TZID=America/Toronto:20201106T200000
DTSTAMP:20260420T202911
CREATED:20201020T181343Z
LAST-MODIFIED:20201102T171513Z
UID:10000530-1604689200-1604692800@thinkfast.sheridancollege.ca
SUMMARY:Coding Syndicate of Sheridan
DESCRIPTION:Join us every Friday evening from 7:00 PM to 8:00 PM to talk all things coding. \nFor more information\, please contact Club President\, Raj Rajput. \n 
URL:https://thinkfast.sheridancollege.ca/event/coding-syndicate-of-sheridan/2020-11-06/
CATEGORIES:Coding Syndicate of Sheridan
ATTACH;FMTTYPE=image/png:https://thinkfast.sheridancollege.ca/wp-content/uploads/2020/10/meeting-flyer-2020.png
END:VEVENT
BEGIN:VEVENT
DTSTART;TZID=America/Toronto:20201030T190000
DTEND;TZID=America/Toronto:20201030T200000
DTSTAMP:20260420T202911
CREATED:20201020T181343Z
LAST-MODIFIED:20201102T171513Z
UID:10000529-1604084400-1604088000@thinkfast.sheridancollege.ca
SUMMARY:Coding Syndicate of Sheridan
DESCRIPTION:Join us every Friday evening from 7:00 PM to 8:00 PM to talk all things coding. \nFor more information\, please contact Club President\, Raj Rajput. \n 
URL:https://thinkfast.sheridancollege.ca/event/coding-syndicate-of-sheridan/2020-10-30/
CATEGORIES:Coding Syndicate of Sheridan
ATTACH;FMTTYPE=image/png:https://thinkfast.sheridancollege.ca/wp-content/uploads/2020/10/meeting-flyer-2020.png
END:VEVENT
BEGIN:VEVENT
DTSTART;TZID=America/Toronto:20201023T190000
DTEND;TZID=America/Toronto:20201023T200000
DTSTAMP:20260420T202911
CREATED:20201020T181343Z
LAST-MODIFIED:20201102T171513Z
UID:10000528-1603479600-1603483200@thinkfast.sheridancollege.ca
SUMMARY:Coding Syndicate of Sheridan
DESCRIPTION:Join us every Friday evening from 7:00 PM to 8:00 PM to talk all things coding. \nFor more information\, please contact Club President\, Raj Rajput. \n 
URL:https://thinkfast.sheridancollege.ca/event/coding-syndicate-of-sheridan/2020-10-23/
CATEGORIES:Coding Syndicate of Sheridan
ATTACH;FMTTYPE=image/png:https://thinkfast.sheridancollege.ca/wp-content/uploads/2020/10/meeting-flyer-2020.png
END:VEVENT
BEGIN:VEVENT
DTSTART;VALUE=DATE:20201015
DTEND;VALUE=DATE:20201016
DTSTAMP:20260420T202911
CREATED:20201006T171840Z
LAST-MODIFIED:20201006T171840Z
UID:10000526-1602720000-1602806399@thinkfast.sheridancollege.ca
SUMMARY:Finastra Hackathon
DESCRIPTION:If you’re interested in Hackathons and are up to a global innovation challenge\, this one’s for you! Finastra’s Hack to the Future is a global\, virtual Hackathon unlike any other. \nClick here to find out more. \nHack to the Future launches on October 15th and submissions will be open from October 15th to November 22nd. \nDon’t miss your chance to participate in an ‘around the clock\, around the world’ Hackathon experience. \n 
URL:https://thinkfast.sheridancollege.ca/event/finastra-hackathon/
CATEGORIES:Code Beyond Club,Coding Syndicate of Sheridan,Information Security Sessions,Mobile Computing Club,WISE Club
END:VEVENT
BEGIN:VEVENT
DTSTART;TZID=America/Toronto:20191026T100000
DTEND;TZID=America/Toronto:20191026T150000
DTSTAMP:20260420T202911
CREATED:20190509T222645Z
LAST-MODIFIED:20190925T182621Z
UID:10000463-1572084000-1572102000@thinkfast.sheridancollege.ca
SUMMARY:Brampton Tech Fair 2019
DESCRIPTION:Join us for the 2019 Brampton Tech Fair – a free event where everyone can discover current technologies and get involved in hands-on demonstrations. Learn about computer applications\, robotics\, 3D printing and more. Great for all ages and abilities. \nBrampton Library – Chinguacousy Branch\, 150 Central Park Dr\, Brampton\, Ontario
URL:https://thinkfast.sheridancollege.ca/event/july-1-start-day/
LOCATION:Brampton Library\, Springdale branch 10705 Bramalea Rd\, Brampton\, Ontario\, Canada
CATEGORIES:Architecture Club,Chemistry Club,Coding Syndicate of Sheridan,Drone Club,Electric Vehicle Club,Sheridan Engineering Club,WISE Club
ATTACH;FMTTYPE=image/jpeg:https://thinkfast.sheridancollege.ca/wp-content/uploads/2019/09/img_4050.jpg
END:VEVENT
END:VCALENDAR