BEGIN:VCALENDAR
VERSION:2.0
PRODID:-//ThinkFAST - ECPv6.15.17.1//NONSGML v1.0//EN
CALSCALE:GREGORIAN
METHOD:PUBLISH
X-WR-CALNAME:ThinkFAST
X-ORIGINAL-URL:https://thinkfast.sheridancollege.ca
X-WR-CALDESC:Events for ThinkFAST
REFRESH-INTERVAL;VALUE=DURATION:PT1H
X-Robots-Tag:noindex
X-PUBLISHED-TTL:PT1H
BEGIN:VTIMEZONE
TZID:America/Toronto
BEGIN:DAYLIGHT
TZOFFSETFROM:-0500
TZOFFSETTO:-0400
TZNAME:EDT
DTSTART:20200308T070000
END:DAYLIGHT
BEGIN:STANDARD
TZOFFSETFROM:-0400
TZOFFSETTO:-0500
TZNAME:EST
DTSTART:20201101T060000
END:STANDARD
BEGIN:DAYLIGHT
TZOFFSETFROM:-0500
TZOFFSETTO:-0400
TZNAME:EDT
DTSTART:20210314T070000
END:DAYLIGHT
BEGIN:STANDARD
TZOFFSETFROM:-0400
TZOFFSETTO:-0500
TZNAME:EST
DTSTART:20211107T060000
END:STANDARD
BEGIN:DAYLIGHT
TZOFFSETFROM:-0500
TZOFFSETTO:-0400
TZNAME:EDT
DTSTART:20220313T070000
END:DAYLIGHT
BEGIN:STANDARD
TZOFFSETFROM:-0400
TZOFFSETTO:-0500
TZNAME:EST
DTSTART:20221106T060000
END:STANDARD
END:VTIMEZONE
BEGIN:VEVENT
DTSTART;TZID=America/Toronto:20210316T190000
DTEND;TZID=America/Toronto:20210316T210000
DTSTAMP:20260425T212812
CREATED:20210309T134657Z
LAST-MODIFIED:20210309T144823Z
UID:10000561-1615921200-1615928400@thinkfast.sheridancollege.ca
SUMMARY:Special Guest\, Fred Vecchio\, shares insights on creating a successful start-up
DESCRIPTION:Join us on March 16th at 7:00 pm to hear Fred Vecchio\, entrepreneur extraordinaire\, speak about how to create a successful start-up. \nFred Vecchio has been starting successful companies and selling them for the past 30 years. Fred currently owns a company that provides technological solutions to unions across Canada\, with the headquarter office in Vaughan\, ON\, and a second office in Edmonton\, AB. \nNot only will you learn from Fred’s insights\, but all attendees will be entered to win a $10 Amazon gift card. \nComing to the next WISE meeting is a WIN-WIN! Register today!
URL:https://thinkfast.sheridancollege.ca/event/special-guest-fred-vecchio-shares-insights-on-how-to-create-a-successful-start-up/
LOCATION:Online\, Canada
CATEGORIES:WISE Club
ATTACH;FMTTYPE=image/png:https://thinkfast.sheridancollege.ca/wp-content/uploads/2021/03/beige-turquoise-and-pink-clean-un-style-environment-civil-society-sdg-instagram-post.png
END:VEVENT
BEGIN:VEVENT
DTSTART;TZID=America/Toronto:20210602T180000
DTEND;TZID=America/Toronto:20210602T190000
DTSTAMP:20260425T212812
CREATED:20210531T183142Z
LAST-MODIFIED:20210531T183413Z
UID:10000563-1622656800-1622660400@thinkfast.sheridancollege.ca
SUMMARY:Fireside Talk - Ask an Alumni with Kostia Alouski
DESCRIPTION:Meet Kostia Arlouski\, 2017 alumni from the Sheridan Software Development and Network Engineering program\, now working full-time at Shopify as a Frontend Developer. \nIn this event\, we’ll be learning about Kostia’s journey from a Sheridan College student to a Frontend Developer at Shopify. Kostia completed numerous internships before Shopify\, bringing lots of insight! \nREGISTER NOW \nWEDNESDAY\, JUNE 2ND\, 6:00PM-7:00PM EST \nThe event will have a live Q&A in the second half\, so you’ll be able to ask Kostia questions relating to his journey\, or tips for job searching directly. In case you’re uncomfortable asking questions in public\, you can fill in this anonymous form with your questions and Kostia will answer them\, to the best of his ability\, live. \nhttps://forms.gle/U2vjNucverRq6Duy7
URL:https://thinkfast.sheridancollege.ca/event/ask-an-alumni-kostia-alouski-fireside-qa/
CATEGORIES:Code Beyond Club,Coding Syndicate of Sheridan,WISE Club
ATTACH;FMTTYPE=image/jpeg:https://thinkfast.sheridancollege.ca/wp-content/uploads/2021/03/180908-sheridan-internation-festival-345.jpg
END:VEVENT
END:VCALENDAR