BEGIN:VCALENDAR
VERSION:2.0
PRODID:-//ThinkFAST - ECPv6.15.17.1//NONSGML v1.0//EN
CALSCALE:GREGORIAN
METHOD:PUBLISH
X-ORIGINAL-URL:https://thinkfast.sheridancollege.ca
X-WR-CALDESC:Events for ThinkFAST
REFRESH-INTERVAL;VALUE=DURATION:PT1H
X-Robots-Tag:noindex
X-PUBLISHED-TTL:PT1H
BEGIN:VTIMEZONE
TZID:America/Toronto
BEGIN:DAYLIGHT
TZOFFSETFROM:-0500
TZOFFSETTO:-0400
TZNAME:EDT
DTSTART:20180311T070000
END:DAYLIGHT
BEGIN:STANDARD
TZOFFSETFROM:-0400
TZOFFSETTO:-0500
TZNAME:EST
DTSTART:20181104T060000
END:STANDARD
BEGIN:DAYLIGHT
TZOFFSETFROM:-0500
TZOFFSETTO:-0400
TZNAME:EDT
DTSTART:20190310T070000
END:DAYLIGHT
BEGIN:STANDARD
TZOFFSETFROM:-0400
TZOFFSETTO:-0500
TZNAME:EST
DTSTART:20191103T060000
END:STANDARD
BEGIN:DAYLIGHT
TZOFFSETFROM:-0500
TZOFFSETTO:-0400
TZNAME:EDT
DTSTART:20200308T070000
END:DAYLIGHT
BEGIN:STANDARD
TZOFFSETFROM:-0400
TZOFFSETTO:-0500
TZNAME:EST
DTSTART:20201101T060000
END:STANDARD
BEGIN:DAYLIGHT
TZOFFSETFROM:-0500
TZOFFSETTO:-0400
TZNAME:EDT
DTSTART:20210314T070000
END:DAYLIGHT
BEGIN:STANDARD
TZOFFSETFROM:-0400
TZOFFSETTO:-0500
TZNAME:EST
DTSTART:20211107T060000
END:STANDARD
BEGIN:DAYLIGHT
TZOFFSETFROM:-0500
TZOFFSETTO:-0400
TZNAME:EDT
DTSTART:20220313T070000
END:DAYLIGHT
BEGIN:STANDARD
TZOFFSETFROM:-0400
TZOFFSETTO:-0500
TZNAME:EST
DTSTART:20221106T060000
END:STANDARD
BEGIN:DAYLIGHT
TZOFFSETFROM:-0500
TZOFFSETTO:-0400
TZNAME:EDT
DTSTART:20230312T070000
END:DAYLIGHT
BEGIN:STANDARD
TZOFFSETFROM:-0400
TZOFFSETTO:-0500
TZNAME:EST
DTSTART:20231105T060000
END:STANDARD
BEGIN:DAYLIGHT
TZOFFSETFROM:-0500
TZOFFSETTO:-0400
TZNAME:EDT
DTSTART:20240310T070000
END:DAYLIGHT
BEGIN:STANDARD
TZOFFSETFROM:-0400
TZOFFSETTO:-0500
TZNAME:EST
DTSTART:20241103T060000
END:STANDARD
BEGIN:DAYLIGHT
TZOFFSETFROM:-0500
TZOFFSETTO:-0400
TZNAME:EDT
DTSTART:20250309T070000
END:DAYLIGHT
BEGIN:STANDARD
TZOFFSETFROM:-0400
TZOFFSETTO:-0500
TZNAME:EST
DTSTART:20251102T060000
END:STANDARD
BEGIN:DAYLIGHT
TZOFFSETFROM:-0500
TZOFFSETTO:-0400
TZNAME:EDT
DTSTART:20260308T070000
END:DAYLIGHT
BEGIN:STANDARD
TZOFFSETFROM:-0400
TZOFFSETTO:-0500
TZNAME:EST
DTSTART:20261101T060000
END:STANDARD
END:VTIMEZONE
BEGIN:VTIMEZONE
TZID:UTC
BEGIN:STANDARD
TZOFFSETFROM:+0000
TZOFFSETTO:+0000
TZNAME:UTC
DTSTART:20180101T000000
END:STANDARD
END:VTIMEZONE
BEGIN:VEVENT
DTSTART;TZID=America/Toronto:20250905T150000
DTEND;TZID=America/Toronto:20250905T170000
DTSTAMP:20260420T180755
CREATED:20250722T130346Z
LAST-MODIFIED:20250722T130346Z
UID:10000637-1757084400-1757091600@thinkfast.sheridancollege.ca
SUMMARY:Fourplex: 1 House 4 Homes Exhibit
DESCRIPTION:An exhibit presented in collaboration between @sheridan_college and @citymississauga \, showcasing the work of Sheridan students. The featured project\, ‘Fourplex: 1 House 4 Homes’\, tells the story of interconnected characters who\, while navigating life under one roof\, ultimately shape four distinct homes. \n  \n🗓️ Opening Day: Sep 5th 2025 @3pm \n  \n📍HMC Sheridan College\, B-Building\, 2nd Floor\, Creative Campus Gallery
URL:https://thinkfast.sheridancollege.ca/event/fourplex-1-house-4-homes-exhibit/
LOCATION:HMC
CATEGORIES:Architecture Club
END:VEVENT
BEGIN:VEVENT
DTSTART;TZID=America/Toronto:20250729T110000
DTEND;TZID=America/Toronto:20250729T150000
DTSTAMP:20260420T180755
CREATED:20250717T151350Z
LAST-MODIFIED:20250717T151350Z
UID:10000636-1753786800-1753801200@thinkfast.sheridancollege.ca
SUMMARY:Arch Small Business Bazaar
DESCRIPTION:Location: HMC\, Creative Commons
URL:https://thinkfast.sheridancollege.ca/event/arch-small-business-bazaar/
CATEGORIES:Architecture Club
END:VEVENT
BEGIN:VEVENT
DTSTART;TZID=America/Toronto:20201126T120000
DTEND;TZID=America/Toronto:20201126T130000
DTSTAMP:20260420T180755
CREATED:20201123T163524Z
LAST-MODIFIED:20201123T164648Z
UID:10000537-1606392000-1606395600@thinkfast.sheridancollege.ca
SUMMARY:Creative Campus Series - Redesigning lives with the Architect and the Developer
DESCRIPTION:Join us on Thursday\, November 26th at noon for an inspirational\, virtual talk around Passive House methodology\, and supportive\, sustainable housing. \nEmma Cubitt\, Principal at Invizij Architects\, and Graham Cubitt\, Director of Projects and Development at Indwell\, will be our guests for this Creative Campus Design Talk and will lead the discussion from their own professional experiences in Passive House. \nFind out more about the speakers \nRegister today for this Creative Campus Series Talk.
URL:https://thinkfast.sheridancollege.ca/event/creative-campus-series-redesigning-lives-with-the-architect-and-the-developer/
CATEGORIES:Architecture Club
ATTACH;FMTTYPE=image/jpeg:https://thinkfast.sheridancollege.ca/wp-content/uploads/2020/11/170202-hmc2-0007.jpg
END:VEVENT
BEGIN:VEVENT
DTSTART;TZID=America/Toronto:20191026T100000
DTEND;TZID=America/Toronto:20191026T150000
DTSTAMP:20260420T180755
CREATED:20190509T222645Z
LAST-MODIFIED:20190925T182621Z
UID:10000463-1572084000-1572102000@thinkfast.sheridancollege.ca
SUMMARY:Brampton Tech Fair 2019
DESCRIPTION:Join us for the 2019 Brampton Tech Fair – a free event where everyone can discover current technologies and get involved in hands-on demonstrations. Learn about computer applications\, robotics\, 3D printing and more. Great for all ages and abilities. \nBrampton Library – Chinguacousy Branch\, 150 Central Park Dr\, Brampton\, Ontario
URL:https://thinkfast.sheridancollege.ca/event/july-1-start-day/
LOCATION:Brampton Library\, Springdale branch 10705 Bramalea Rd\, Brampton\, Ontario\, Canada
CATEGORIES:Architecture Club,Chemistry Club,Coding Syndicate of Sheridan,Drone Club,Electric Vehicle Club,Sheridan Engineering Club,WISE Club
ATTACH;FMTTYPE=image/jpeg:https://thinkfast.sheridancollege.ca/wp-content/uploads/2019/09/img_4050.jpg
END:VEVENT
BEGIN:VEVENT
DTSTART;VALUE=DATE:20191001
DTEND;VALUE=DATE:20191005
DTSTAMP:20260420T180755
CREATED:20190516T174336Z
LAST-MODIFIED:20190925T182726Z
UID:10000465-1569888000-1570233599@thinkfast.sheridancollege.ca
SUMMARY:Architectural Technology Week 2019
DESCRIPTION:Calling all Architectural Technology Students…\nGet ready for Arch Tech week 2019 running from October 1st – 4th. \nTake the learning outside-of-the-classroom with this super fun week of hands-on activities. Attendance is still required as each activity is worth an in-class mark.
URL:https://thinkfast.sheridancollege.ca/event/june-21-start-day/
LOCATION:HMC
CATEGORIES:Architecture Club
ATTACH;FMTTYPE=image/jpeg:https://thinkfast.sheridancollege.ca/wp-content/uploads/2019/09/arch-tech_week_6256-e1569435154280.jpg
END:VEVENT
END:VCALENDAR