BEGIN:VCALENDAR
VERSION:2.0
PRODID:-//ThinkFAST - ECPv6.15.17.1//NONSGML v1.0//EN
CALSCALE:GREGORIAN
METHOD:PUBLISH
X-WR-CALNAME:ThinkFAST
X-ORIGINAL-URL:https://thinkfast.sheridancollege.ca
X-WR-CALDESC:Events for ThinkFAST
REFRESH-INTERVAL;VALUE=DURATION:PT1H
X-Robots-Tag:noindex
X-PUBLISHED-TTL:PT1H
BEGIN:VTIMEZONE
TZID:America/Toronto
BEGIN:DAYLIGHT
TZOFFSETFROM:-0500
TZOFFSETTO:-0400
TZNAME:EDT
DTSTART:20200308T070000
END:DAYLIGHT
BEGIN:STANDARD
TZOFFSETFROM:-0400
TZOFFSETTO:-0500
TZNAME:EST
DTSTART:20201101T060000
END:STANDARD
BEGIN:DAYLIGHT
TZOFFSETFROM:-0500
TZOFFSETTO:-0400
TZNAME:EDT
DTSTART:20210314T070000
END:DAYLIGHT
BEGIN:STANDARD
TZOFFSETFROM:-0400
TZOFFSETTO:-0500
TZNAME:EST
DTSTART:20211107T060000
END:STANDARD
BEGIN:DAYLIGHT
TZOFFSETFROM:-0500
TZOFFSETTO:-0400
TZNAME:EDT
DTSTART:20220313T070000
END:DAYLIGHT
BEGIN:STANDARD
TZOFFSETFROM:-0400
TZOFFSETTO:-0500
TZNAME:EST
DTSTART:20221106T060000
END:STANDARD
END:VTIMEZONE
BEGIN:VEVENT
DTSTART;TZID=America/Toronto:20210326T140000
DTEND;TZID=America/Toronto:20210326T150000
DTSTAMP:20260423T162321
CREATED:20210315T185223Z
LAST-MODIFIED:20210315T185310Z
UID:10000562-1616767200-1616770800@thinkfast.sheridancollege.ca
SUMMARY:March FAST Food For Thought
DESCRIPTION:Join us for FAST Food for Thought on Friday March 26th 2 p.m. – 3 p.m. EST. \nAt the March FAST Food for Thought\, you will learn about the benefits and challenges involved in applied research projects. Our guest speakers will discuss issues in our healthcare systems for patients who are living outside of primary care homes and address the demand for in-home care services. Also\, the simulation and optimization of novel energy and mining systems\, including experimental validation and demonstration of novel engineering concepts will be discussed. More importantly\, the panel will focus on student’s learning and the valuable experiences gained through their involvement in applied research projects. \nGuest Speakers: \nSyed Tanbeer\, Professor\, Applied Computing\nAmin Ghobeity\, Professor\, Mechanical and Electrical Engineering & Technology \nRegister today
URL:https://thinkfast.sheridancollege.ca/event/dont-miss-the-march-fast-food-for-thought/
LOCATION:Online\, Canada
ATTACH;FMTTYPE=image/jpeg:https://thinkfast.sheridancollege.ca/wp-content/uploads/2021/03/fast-food-for-thought-mar-26-2021.jpg
END:VEVENT
END:VCALENDAR