BEGIN:VCALENDAR
VERSION:2.0
PRODID:-//ThinkFAST - ECPv6.15.17.1//NONSGML v1.0//EN
CALSCALE:GREGORIAN
METHOD:PUBLISH
X-WR-CALNAME:ThinkFAST
X-ORIGINAL-URL:https://thinkfast.sheridancollege.ca
X-WR-CALDESC:Events for ThinkFAST
REFRESH-INTERVAL;VALUE=DURATION:PT1H
X-Robots-Tag:noindex
X-PUBLISHED-TTL:PT1H
BEGIN:VTIMEZONE
TZID:America/Toronto
BEGIN:DAYLIGHT
TZOFFSETFROM:-0500
TZOFFSETTO:-0400
TZNAME:EDT
DTSTART:20190310T070000
END:DAYLIGHT
BEGIN:STANDARD
TZOFFSETFROM:-0400
TZOFFSETTO:-0500
TZNAME:EST
DTSTART:20191103T060000
END:STANDARD
BEGIN:DAYLIGHT
TZOFFSETFROM:-0500
TZOFFSETTO:-0400
TZNAME:EDT
DTSTART:20200308T070000
END:DAYLIGHT
BEGIN:STANDARD
TZOFFSETFROM:-0400
TZOFFSETTO:-0500
TZNAME:EST
DTSTART:20201101T060000
END:STANDARD
BEGIN:DAYLIGHT
TZOFFSETFROM:-0500
TZOFFSETTO:-0400
TZNAME:EDT
DTSTART:20210314T070000
END:DAYLIGHT
BEGIN:STANDARD
TZOFFSETFROM:-0400
TZOFFSETTO:-0500
TZNAME:EST
DTSTART:20211107T060000
END:STANDARD
END:VTIMEZONE
BEGIN:VEVENT
DTSTART;TZID=America/Toronto:20200917T193000
DTEND;TZID=America/Toronto:20200917T210000
DTSTAMP:20260423T235543
CREATED:20200915T155339Z
LAST-MODIFIED:20200916T123237Z
UID:10000520-1600371000-1600376400@thinkfast.sheridancollege.ca
SUMMARY:Mobile Computing Club Virtual Kick Off Meeting
DESCRIPTION:Join us on Sept 17th for the Mobile Computing Club’s virtual kick off event. We’ll be discussing the student experience in the Mobile Computing Degree program and kicking off what promises to be the first year of its kind! Join us on Microsoft Teams. \nFor more information\, check your email from Professor Stoica. \nWe hope to see you there (virtually)!
URL:https://thinkfast.sheridancollege.ca/event/mobile-computing-club-virtual-kick-off-meeting/
CATEGORIES:Mobile Computing Club
ATTACH;FMTTYPE=image/jpeg:https://thinkfast.sheridancollege.ca/wp-content/uploads/2020/09/2020-smcc-kickoff-event-poster.jpg
END:VEVENT
END:VCALENDAR