BEGIN:VCALENDAR
VERSION:2.0
PRODID:-//ThinkFAST - ECPv6.15.17.1//NONSGML v1.0//EN
CALSCALE:GREGORIAN
METHOD:PUBLISH
X-WR-CALNAME:ThinkFAST
X-ORIGINAL-URL:https://thinkfast.sheridancollege.ca
X-WR-CALDESC:Events for ThinkFAST
REFRESH-INTERVAL;VALUE=DURATION:PT1H
X-Robots-Tag:noindex
X-PUBLISHED-TTL:PT1H
BEGIN:VTIMEZONE
TZID:UTC
BEGIN:STANDARD
TZOFFSETFROM:+0000
TZOFFSETTO:+0000
TZNAME:UTC
DTSTART:20180101T000000
END:STANDARD
END:VTIMEZONE
BEGIN:VEVENT
DTSTART;TZID=UTC:20191022T090000
DTEND;TZID=UTC:20191022T170000
DTSTAMP:20260424T152109
CREATED:20190509T222623Z
LAST-MODIFIED:20191009T154624Z
UID:10000462-1571734800-1571763600@thinkfast.sheridancollege.ca
SUMMARY:IEEE 5G Conference
DESCRIPTION:Get ready to learn about 5G networks at the 57th IEEE Conference (Institute of Electrical and Electronics Engineers)
URL:https://thinkfast.sheridancollege.ca/event/june-14-start-day/
LOCATION:Davis Campus\, 7899 McLaughlin Road - H131\, Brampton\, Ontario\, L6Y 5H9\, Canada
END:VEVENT
END:VCALENDAR