BEGIN:VCALENDAR
VERSION:2.0
PRODID:-//ThinkFAST - ECPv6.15.17.1//NONSGML v1.0//EN
CALSCALE:GREGORIAN
METHOD:PUBLISH
X-WR-CALNAME:ThinkFAST
X-ORIGINAL-URL:https://thinkfast.sheridancollege.ca
X-WR-CALDESC:Events for ThinkFAST
REFRESH-INTERVAL;VALUE=DURATION:PT1H
X-Robots-Tag:noindex
X-PUBLISHED-TTL:PT1H
BEGIN:VTIMEZONE
TZID:UTC
BEGIN:STANDARD
TZOFFSETFROM:+0000
TZOFFSETTO:+0000
TZNAME:UTC
DTSTART:20180101T000000
END:STANDARD
END:VTIMEZONE
BEGIN:VEVENT
DTSTART;TZID=UTC:20191012T110000
DTEND;TZID=UTC:20191012T130000
DTSTAMP:20260424T152110
CREATED:20190509T222713Z
LAST-MODIFIED:20191007T150901Z
UID:10000464-1570878000-1570885200@thinkfast.sheridancollege.ca
SUMMARY:Girl Powered Robotics at Brampton Library
DESCRIPTION:Come out to the Springdale branch of the Brampton Library to celebrate STEM and the International day of the Girl. \nLearn about the fundamentals of robotics and perspectives on technology from three of Sheridan’s female thought leaders\, Zohreh Motamedi\, Sarah Qureshi and Michelle Crétien.
URL:https://thinkfast.sheridancollege.ca/event/september-15-start-day/
LOCATION:Brampton Library\, Springdale branch 10705 Bramalea Rd\, Brampton\, Ontario\, Canada
CATEGORIES:WISE Club
END:VEVENT
END:VCALENDAR